Workbook

Sheet A-DATOS GENERALES
B9: PLAN DE MINIMIZACION DE RESIDUOS PELIGROSOS
B12: Antes de cumplimentar, se recomienda que lea atentamente la información sobre protección de datos personales incluida en este mismo documento, en la pestaña “Protección de datos personales”.
B15: A.- DATOS GENERALES DE LA EMPRESA
B17: Razon Social | I17: N.I.F.
B18: Dirección del domicilio social
B19: Localidad
B20: Municipio | H20: Provincia
B21: Codigo postal | D21: Teléfono | F21: Email
B22: Representante Legal | D22: Nombre y apellidos
D23: D.N.I. | F23: Cargo
B24: Número de centros en la comunidad autónoma de Cantabria que produzcan más de 10 t/año de residuos peligrosos
B25: Otros datos de interés:

Sheet C1-CENTRO PRODUCTOR 1
B8: B.- CARACTERÍSTICAS DEL CENTRO DE PRODUCCIÓN DE RESIDUOS PELIGROSOS. En caso de existir varios centros de trabajo P01 localizados en Cantabria deberá cumplimentarse una copia de este formato por cada centro (incluidos en este formulario hasta 3 centros). MUY IMPORTANTE. Los diferentes centros de trabajo se incluiran en este formulario en orden cronológico de comunicación de centro productor P01, comenzando por el más antiguo.
B10: DATOS PREVIOS PARA LA DETERMINACION DEL PERIODO A PLANIFICAR
B12: Año en el cual se realizo la comunicación de productor P01 al Gobierno de Cantabria
B13: Año de referencia para el informe de resultados | J13: =IF(J12<=2022,2022,J12+1) -> 2022
B14: Periodo objeto del plan de minimizacion de residuos peligrosos | G14: Desde | H14: =J13+1 -> 2023 | I14: Hasta | J14: =J13+4 -> 2026
B16: B.1.- DATOS GENERALES DEL CENTRO Nº 1
B18: Denominacion del centro
B19: Actividad | I19: CNAE
B20: N.I.M.A. | E20: Nº Inscripción en el registro
B21: Dirección
B22: Localidad
B23: Municipio | H23: Provincia
B24: Codigo postal | D24: Teléfono | F24: Email
B25: Persona encargada de la gestión de los residuos | D25: Nombre y apellidos
D26: D.N.I. | F26: Cargo
D27: E-mail
D28: Teléfono de contacto

Sheet C1P1-DATOS DEL PROCESO 1
B8: C.- DATOS ESPECIFICOS DEL PROCESO (Cumplimentándose una copia del apartado “C” por cada proceso)
B10: C.1.- DATOS GENERALES
B12: Nº de orden | D12: Denominación del proceso
B13: Descripción del proceso (adjuntar en su caso diagrama general del proceso)
B29: MAQUINARIA EMPLEADA
B40: MATERIAS PRIMAS CONSUMIDAS
B41: Descripción | J41: Cantidad anual
B52: PRODUCTOS OBTENIDOS
B53: Descripción | J53: Cantidad anual
B65: Cantidad anual total de producto obtenida en el proceso durante el año de referencia | H65: AÑO | I65: Cantidad | J65: Unidad
H66: ='C1-CENTRO PRODUCTOR 1'!J13 -> 2022
B68: C.2.- RESIDUOS PELIGROSOS GENERADOS
J70: AÑO | K70: =H66 -> 2022
B72: Nº de orden | C72: Descripción residuo | I72: Codigo LER | J72: Cantidad anual residuo peligroso generada (Kg) | K72: Cantidad anual por unidad de producción
K73: =J73/$I$66 -> #DIV/0!
K74: =J74/$I$66 -> #DIV/0!
K75: =J75/$I$66 -> #DIV/0!
K76: =J76/$I$66 -> #DIV/0!
K77: =J77/$I$66 -> #DIV/0!
K78: =J78/$I$66 -> #DIV/0!
K79: =J79/$I$66 -> #DIV/0!
K80: =J80/$I$66 -> #DIV/0!
K81: =J81/$I$66 -> #DIV/0!
K82: =J82/$I$66 -> #DIV/0!
K83: =J83/$I$66 -> #DIV/0!
K84: =J84/$I$66 -> #DIV/0!
... K112: =J112/$I$66 -> #DIV/0!
B113: Otros datos de interés
B120: C.3.- EVOLUCION EN LA GENERACIÓN DE RESIDUOS PELIGROSOS
B122: CANTIDAD GENERADA POR UNIDAD DE PRODUCCION EN AÑOS ANTERIORES AL PERIODO A PLANIFICAR
B123: Nº de orden | C123: Descripcion | H123: Codigo LER | I123: Cantidad año | J123: Cantidad año | K123: Cantidad año | L123: Cantidad año | M123: Nº sistema de minimización
I124: =L124-3 -> 2019 | J124: =L124-2 -> 2020 | K124: =L124-1 -> 2021 | L124: ='C1-CENTRO PRODUCTOR 1'!J13 -> 2022
B125: =B73 -> 0 | C125: =C73 -> 0 | H125: =I73 -> 0 | L125: =K73 -> #DIV/0!
B126: =B74 -> 0 | C126: =C74 -> 0 | H126: =I74 -> 0 | L126: =K74 -> #DIV/0!
B127: =B75 -> 0 | C127: =C75 -> 0 | H127: =I75 -> 0 | L127: =K75 -> #DIV/0!
B128: =B76 -> 0 | C128: =C76 -> 0 | H128: =I76 -> 0 | L128: =K76 -> #DIV/0!
B129: =B77 -> 0 | C129: =C77 -> 0 | H129: =I77 -> 0 | L129: =K77 -> #DIV/0!
B130: =B78 -> 0 | C130: =C78 -> 0 | H130: =I78 -> 0 | L130: =K78 -> #DIV/0!
B131: =B79 -> 0 | C131: =C79 -> 0 | H131: =I79 -> 0 | L131: =K79 -> #DIV/0!
B132: =B80 -> 0 | C132: =C80 -> 0 | H132: =I80 -> 0 | L132: =K80 -> #DIV/0!
B133: =B81 -> 0 | C133: =C81 -> 0 | H133: =I81 -> 0 | L133: =K81 -> #DIV/0!
B134: =B82 -> 0 | C134: =C82 -> 0 | H134: =I82 -> 0 | L134: =K82 -> #DIV/0!
B135: =B83 -> 0 | C135: =C83 -> 0 | H135: =I83 -> 0 | L135: =K83 -> #DIV/0!
B136: =B84 -> 0 | C136: =C84 -> 0 | H136: =I84 -> 0 | L136: =K84 -> #DIV/0!
... B164: =B112 -> 0 | C164: =C112 -> 0 | H164: =I112 -> 0 | L164: =K112 -> #DIV/0!
B166: Nota: Para el cálculo de la cantidad anual por unidad de producción ha de procederse a dividir la cantidad anual generada de cada residuo peligroso (en Kg) en el proceso productivo entre la cantidad anual de producto obtenida en el proceso. Ejemplo: Residuo generado = 100Kg (Kilogramos). Producto obtenido =1000 t (toneladas); Cantidad anual por unidad de producción =100 Kg /100 t = 0,1Kg Residuo/ t Producto
B168: CANTIDAD ESTIMADA POR UNIDAD DE PRODUCCION EN EL PERIODO A PLANIFICAR
B169: Nº de orden | C169: Descripcion | H169: Codigo LER | I169: Cantidad año | J169: Cantidad año | K169: Cantidad año | L169: Cantidad año | M169: Nº sistema de minimización | N169: Objetivo de minimizacion (%)
I170: ='C1-CENTRO PRODUCTOR 1'!H14 -> 2023 | J170: =I170+1 -> 2024 | K170: =I170+2 -> 2025 | L170: =I170+3 -> 2026
B171: =B73 -> 0 | C171: =C73 -> 0 | H171: =I73 -> 0 | N171: =100-((L171*100)/L125) -> #DIV/0!
B172: =B74 -> 0 | C172: =C74 -> 0 | H172: =I74 -> 0 | N172: =100-((L172*100)/L126) -> #DIV/0!
B173: =B75 -> 0 | C173: =C75 -> 0 | H173: =I75 -> 0 | N173: =100-((L173*100)/L127) -> #DIV/0!
B174: =B76 -> 0 | C174: =C76 -> 0 | H174: =I76 -> 0 | N174: =100-((L174*100)/L128) -> #DIV/0!
B175: =B77 -> 0 | C175: =C77 -> 0 | H175: =I77 -> 0 | N175: =100-((L175*100)/L129) -> #DIV/0!
B176: =B78 -> 0 | C176: =C78 -> 0 | H176: =I78 -> 0 | N176: =100-((L176*100)/L130) -> #DIV/0!
B177: =B79 -> 0 | C177: =C79 -> 0 | H177: =I79 -> 0 | N177: =100-((L177*100)/L131) -> #DIV/0!
B178: =B80 -> 0 | C178: =C80 -> 0 | H178: =I80 -> 0 | N178: =100-((L178*100)/L132) -> #DIV/0!
B179: =B81 -> 0 | C179: =C81 -> 0 | H179: =I81 -> 0 | N179: =100-((L179*100)/L133) -> #DIV/0!
B180: =B82 -> 0 | C180: =C82 -> 0 | H180: =I82 -> 0 | N180: =100-((L180*100)/L134) -> #DIV/0!
B181: =B83 -> 0 | C181: =C83 -> 0 | H181: =I83 -> 0 | N181: =100-((L181*100)/L135) -> #DIV/0!
B182: =B84 -> 0 | C182: =C84 -> 0 | H182: =I84 -> 0 | N182: =100-((L182*100)/L136) -> #DIV/0!
... B210: =B112 -> 0 | C210: =C112 -> 0 | H210: =I112 -> 0 | N210: =100-((L210*100)/L164) -> #DIV/0!
B212: Nota: Para el cálculo de la cantidad anual por unidad de producción ha de procederse a dividir la cantidad anual QUE SE PREVEA GENERAR de cada residuo peligroso (en Kg) en el proceso productivo entre la cantidad anual de producto QUE SE PREVEA OBTENER en el proceso.
B214: C.4.- MEDIDAS O SISTEMAS DE MINIMIZACION (Adjuntar, si se considera necesario, memoria y planos complementarios)
B217: Nº de sistema de minimizacion | C217: Descripción | K217: Fecha de implantación
B231: Otros datos de interés

Sheet C1P2-DATOS DEL PROCESO 2
B8: C.- DATOS ESPECIFICOS DEL PROCESO (Cumplimentándose una copia del apartado “C” por cada proceso)
B10: C.1.- DATOS GENERALES
B12: Nº de orden | D12: Denominación del proceso
B13: Descripción del proceso (adjuntar en su caso diagrama general del proceso)
B29: MAQUINARIA EMPLEADA
B40: MATERIAS PRIMAS CONSUMIDAS
B41: Descripción | J41: Cantidad anual
B52: PRODUCTOS OBTENIDOS
B53: Descripción | J53: Cantidad anual
B65: Cantidad anual total de producto obtenida en el proceso durante el año de referencia | H65: AÑO | I65: Cantidad | J65: Unidad
H66: ='C1-CENTRO PRODUCTOR 1'!J13 -> 2022
B68: C.2.- RESIDUOS PELIGROSOS GENERADOS
J70: AÑO | K70: =H66 -> 2022
B72: Nº de orden | C72: Descripción residuo | I72: Codigo LER | J72: Cantidad anual residuo peligroso generada (Kg) | K72: Cantidad anual por unidad de producción
K73: =J73/$I$66 -> #DIV/0!
K74: =J74/$I$66 -> #DIV/0!
K75: =J75/$I$66 -> #DIV/0!
K76: =J76/$I$66 -> #DIV/0!
K77: =J77/$I$66 -> #DIV/0!
K78: =J78/$I$66 -> #DIV/0!
K79: =J79/$I$66 -> #DIV/0!
K80: =J80/$I$66 -> #DIV/0!
K81: =J81/$I$66 -> #DIV/0!
K82: =J82/$I$66 -> #DIV/0!
K83: =J83/$I$66 -> #DIV/0!
K84: =J84/$I$66 -> #DIV/0!
... K112: =J112/$I$66 -> #DIV/0!
B113: Otros datos de interés
B120: C.3.- EVOLUCION EN LA GENERACIÓN DE RESIDUOS PELIGROSOS
B122: CANTIDAD GENERADA POR UNIDAD DE PRODUCCION EN AÑOS ANTERIORES AL PERIODO A PLANIFICAR
B123: Nº de orden | C123: Descripcion | H123: Codigo LER | I123: Cantidad año | J123: Cantidad año | K123: Cantidad año | L123: Cantidad año | M123: Nº sistema de minimización
I124: =L124-3 -> 2019 | J124: =L124-2 -> 2020 | K124: =L124-1 -> 2021 | L124: ='C1-CENTRO PRODUCTOR 1'!J13 -> 2022
B125: =B73 -> 0 | C125: =C73 -> 0 | H125: =I73 -> 0 | L125: =K73 -> #DIV/0!
B126: =B74 -> 0 | C126: =C74 -> 0 | H126: =I74 -> 0 | L126: =K74 -> #DIV/0!
B127: =B75 -> 0 | C127: =C75 -> 0 | H127: =I75 -> 0 | L127: =K75 -> #DIV/0!
B128: =B76 -> 0 | C128: =C76 -> 0 | H128: =I76 -> 0 | L128: =K76 -> #DIV/0!
B129: =B77 -> 0 | C129: =C77 -> 0 | H129: =I77 -> 0 | L129: =K77 -> #DIV/0!
B130: =B78 -> 0 | C130: =C78 -> 0 | H130: =I78 -> 0 | L130: =K78 -> #DIV/0!
B131: =B79 -> 0 | C131: =C79 -> 0 | H131: =I79 -> 0 | L131: =K79 -> #DIV/0!
B132: =B80 -> 0 | C132: =C80 -> 0 | H132: =I80 -> 0 | L132: =K80 -> #DIV/0!
B133: =B81 -> 0 | C133: =C81 -> 0 | H133: =I81 -> 0 | L133: =K81 -> #DIV/0!
B134: =B82 -> 0 | C134: =C82 -> 0 | H134: =I82 -> 0 | L134: =K82 -> #DIV/0!
B135: =B83 -> 0 | C135: =C83 -> 0 | H135: =I83 -> 0 | L135: =K83 -> #DIV/0!
B136: =B84 -> 0 | C136: =C84 -> 0 | H136: =I84 -> 0 | L136: =K84 -> #DIV/0!
... B164: =B112 -> 0 | C164: =C112 -> 0 | H164: =I112 -> 0 | L164: =K112 -> #DIV/0!
B166: Nota: Para el cálculo de la cantidad anual por unidad de producción ha de procederse a dividir la cantidad anual generada de cada residuo peligroso (en Kg) en el proceso productivo entre la cantidad anual de producto obtenida en el proceso. Ejemplo: Residuo generado = 100Kg (Kilogramos). Producto obtenido =1000 t (toneladas); Cantidad anual por unidad de producción =100 Kg /100 t = 0,1Kg Residuo/ t Producto
B168: CANTIDAD ESTIMADA POR UNIDAD DE PRODUCCION EN EL PERIODO A PLANIFICAR
B169: Nº de orden | C169: Descripcion | H169: Codigo LER | I169: Cantidad año | J169: Cantidad año | K169: Cantidad año | L169: Cantidad año | M169: Nº sistema de minimización | N169: Objetivo de minimizacion (%)
I170: ='C1-CENTRO PRODUCTOR 1'!H14 -> 2023 | J170: =I170+1 -> 2024 | K170: =I170+2 -> 2025 | L170: =I170+3 -> 2026
B171: =B73 -> 0 | C171: =C73 -> 0 | H171: =I73 -> 0 | N171: =100-((L171*100)/L125) -> #DIV/0!
B172: =B74 -> 0 | C172: =C74 -> 0 | H172: =I74 -> 0 | N172: =100-((L172*100)/L126) -> #DIV/0!
B173: =B75 -> 0 | C173: =C75 -> 0 | H173: =I75 -> 0 | N173: =100-((L173*100)/L127) -> #DIV/0!
B174: =B76 -> 0 | C174: =C76 -> 0 | H174: =I76 -> 0 | N174: =100-((L174*100)/L128) -> #DIV/0!
B175: =B77 -> 0 | C175: =C77 -> 0 | H175: =I77 -> 0 | N175: =100-((L175*100)/L129) -> #DIV/0!
B176: =B78 -> 0 | C176: =C78 -> 0 | H176: =I78 -> 0 | N176: =100-((L176*100)/L130) -> #DIV/0!
B177: =B79 -> 0 | C177: =C79 -> 0 | H177: =I79 -> 0 | N177: =100-((L177*100)/L131) -> #DIV/0!
B178: =B80 -> 0 | C178: =C80 -> 0 | H178: =I80 -> 0 | N178: =100-((L178*100)/L132) -> #DIV/0!
B179: =B81 -> 0 | C179: =C81 -> 0 | H179: =I81 -> 0 | N179: =100-((L179*100)/L133) -> #DIV/0!
B180: =B82 -> 0 | C180: =C82 -> 0 | H180: =I82 -> 0 | N180: =100-((L180*100)/L134) -> #DIV/0!
B181: =B83 -> 0 | C181: =C83 -> 0 | H181: =I83 -> 0 | N181: =100-((L181*100)/L135) -> #DIV/0!
B182: =B84 -> 0 | C182: =C84 -> 0 | H182: =I84 -> 0 | N182: =100-((L182*100)/L136) -> #DIV/0!
... B210: =B112 -> 0 | C210: =C112 -> 0 | H210: =I112 -> 0 | N210: =100-((L210*100)/L164) -> #DIV/0!
B212: Nota: Para el cálculo de la cantidad anual por unidad de producción ha de procederse a dividir la cantidad anual QUE SE PREVEA GENERAR de cada residuo peligroso (en Kg) en el proceso productivo entre la cantidad anual de producto QUE SE PREVEA OBTENER en el proceso.
B214: C.4.- MEDIDAS O SISTEMAS DE MINIMIZACION (Adjuntar, si se considera necesario, memoria y planos complementarios)
B217: Nº de sistema de minimizacion | C217: Descripción | K217: Fecha de implantación
B231: Otros datos de interés

Sheet C1P3-DATOS DEL PROCESO 3
B8: C.- DATOS ESPECIFICOS DEL PROCESO (Cumplimentándose una copia del apartado “C” por cada proceso)
B10: C.1.- DATOS GENERALES
B12: Nº de orden | D12: Denominación del proceso
B13: Descripción del proceso (adjuntar en su caso diagrama general del proceso)
B29: MAQUINARIA EMPLEADA
B40: MATERIAS PRIMAS CONSUMIDAS
B41: Descripción | J41: Cantidad anual
B52: PRODUCTOS OBTENIDOS
B53: Descripción | J53: Cantidad anual
B65: Cantidad anual total de producto obtenida en el proceso durante el año de referencia | H65: AÑO | I65: Cantidad | J65: Unidad
H66: ='C1-CENTRO PRODUCTOR 1'!J13 -> 2022
B68: C.2.- RESIDUOS PELIGROSOS GENERADOS
J70: AÑO | K70: =H66 -> 2022
B72: Nº de orden | C72: Descripción residuo | I72: Codigo LER | J72: Cantidad anual residuo peligroso generada (Kg) | K72: Cantidad anual por unidad de producción
K73: =J73/$I$66 -> #DIV/0!
K74: =J74/$I$66 -> #DIV/0!
K75: =J75/$I$66 -> #DIV/0!
K76: =J76/$I$66 -> #DIV/0!
K77: =J77/$I$66 -> #DIV/0!
K78: =J78/$I$66 -> #DIV/0!
K79: =J79/$I$66 -> #DIV/0!
K80: =J80/$I$66 -> #DIV/0!
K81: =J81/$I$66 -> #DIV/0!
K82: =J82/$I$66 -> #DIV/0!
K83: =J83/$I$66 -> #DIV/0!
K84: =J84/$I$66 -> #DIV/0!
... K112: =J112/$I$66 -> #DIV/0!
B113: Otros datos de interés
B120: C.3.- EVOLUCION EN LA GENERACIÓN DE RESIDUOS PELIGROSOS
B122: CANTIDAD GENERADA POR UNIDAD DE PRODUCCION EN AÑOS ANTERIORES AL PERIODO A PLANIFICAR
B123: Nº de orden | C123: Descripcion | H123: Codigo LER | I123: Cantidad año | J123: Cantidad año | K123: Cantidad año | L123: Cantidad año | M123: Nº sistema de minimización
I124: =L124-3 -> 2019 | J124: =L124-2 -> 2020 | K124: =L124-1 -> 2021 | L124: ='C1-CENTRO PRODUCTOR 1'!J13 -> 2022
B125: =B73 -> 0 | C125: =C73 -> 0 | H125: =I73 -> 0 | L125: =K73 -> #DIV/0!
B126: =B74 -> 0 | C126: =C74 -> 0 | H126: =I74 -> 0 | L126: =K74 -> #DIV/0!
B127: =B75 -> 0 | C127: =C75 -> 0 | H127: =I75 -> 0 | L127: =K75 -> #DIV/0!
B128: =B76 -> 0 | C128: =C76 -> 0 | H128: =I76 -> 0 | L128: =K76 -> #DIV/0!
B129: =B77 -> 0 | C129: =C77 -> 0 | H129: =I77 -> 0 | L129: =K77 -> #DIV/0!
B130: =B78 -> 0 | C130: =C78 -> 0 | H130: =I78 -> 0 | L130: =K78 -> #DIV/0!
B131: =B79 -> 0 | C131: =C79 -> 0 | H131: =I79 -> 0 | L131: =K79 -> #DIV/0!
B132: =B80 -> 0 | C132: =C80 -> 0 | H132: =I80 -> 0 | L132: =K80 -> #DIV/0!
B133: =B81 -> 0 | C133: =C81 -> 0 | H133: =I81 -> 0 | L133: =K81 -> #DIV/0!
B134: =B82 -> 0 | C134: =C82 -> 0 | H134: =I82 -> 0 | L134: =K82 -> #DIV/0!
B135: =B83 -> 0 | C135: =C83 -> 0 | H135: =I83 -> 0 | L135: =K83 -> #DIV/0!
B136: =B84 -> 0 | C136: =C84 -> 0 | H136: =I84 -> 0 | L136: =K84 -> #DIV/0!
... B164: =B112 -> 0 | C164: =C112 -> 0 | H164: =I112 -> 0 | L164: =K112 -> #DIV/0!
B166: Nota: Para el cálculo de la cantidad anual por unidad de producción ha de procederse a dividir la cantidad anual generada de cada residuo peligroso (en Kg) en el proceso productivo entre la cantidad anual de producto obtenida en el proceso. Ejemplo: Residuo generado = 100Kg (Kilogramos). Producto obtenido =1000 t (toneladas); Cantidad anual por unidad de producción =100 Kg /100 t = 0,1Kg Residuo/ t Producto
B168: CANTIDAD ESTIMADA POR UNIDAD DE PRODUCCION EN EL PERIODO A PLANIFICAR
B169: Nº de orden | C169: Descripcion | H169: Codigo LER | I169: Cantidad año | J169: Cantidad año | K169: Cantidad año | L169: Cantidad año | M169: Nº sistema de minimización | N169: Objetivo de minimizacion (%)
I170: ='C1-CENTRO PRODUCTOR 1'!H14 -> 2023 | J170: =I170+1 -> 2024 | K170: =I170+2 -> 2025 | L170: =I170+3 -> 2026
B171: =B73 -> 0 | C171: =C73 -> 0 | H171: =I73 -> 0 | N171: =100-((L171*100)/L125) -> #DIV/0!
B172: =B74 -> 0 | C172: =C74 -> 0 | H172: =I74 -> 0 | N172: =100-((L172*100)/L126) -> #DIV/0!
B173: =B75 -> 0 | C173: =C75 -> 0 | H173: =I75 -> 0 | N173: =100-((L173*100)/L127) -> #DIV/0!
B174: =B76 -> 0 | C174: =C76 -> 0 | H174: =I76 -> 0 | N174: =100-((L174*100)/L128) -> #DIV/0!
B175: =B77 -> 0 | C175: =C77 -> 0 | H175: =I77 -> 0 | N175: =100-((L175*100)/L129) -> #DIV/0!
B176: =B78 -> 0 | C176: =C78 -> 0 | H176: =I78 -> 0 | N176: =100-((L176*100)/L130) -> #DIV/0!
B177: =B79 -> 0 | C177: =C79 -> 0 | H177: =I79 -> 0 | N177: =100-((L177*100)/L131) -> #DIV/0!
B178: =B80 -> 0 | C178: =C80 -> 0 | H178: =I80 -> 0 | N178: =100-((L178*100)/L132) -> #DIV/0!
B179: =B81 -> 0 | C179: =C81 -> 0 | H179: =I81 -> 0 | N179: =100-((L179*100)/L133) -> #DIV/0!
B180: =B82 -> 0 | C180: =C82 -> 0 | H180: =I82 -> 0 | N180: =100-((L180*100)/L134) -> #DIV/0!
B181: =B83 -> 0 | C181: =C83 -> 0 | H181: =I83 -> 0 | N181: =100-((L181*100)/L135) -> #DIV/0!
B182: =B84 -> 0 | C182: =C84 -> 0 | H182: =I84 -> 0 | N182: =100-((L182*100)/L136) -> #DIV/0!
... B210: =B112 -> 0 | C210: =C112 -> 0 | H210: =I112 -> 0 | N210: =100-((L210*100)/L164) -> #DIV/0!
B212: Nota: Para el cálculo de la cantidad anual por unidad de producción ha de procederse a dividir la cantidad anual QUE SE PREVEA GENERAR de cada residuo peligroso (en Kg) en el proceso productivo entre la cantidad anual de producto QUE SE PREVEA OBTENER en el proceso.
B214: C.4.- MEDIDAS O SISTEMAS DE MINIMIZACION (Adjuntar, si se considera necesario, memoria y planos complementarios)
B217: Nº de sistema de minimizacion | C217: Descripción | K217: Fecha de implantación
B231: Otros datos de interés

Sheet C1P4-DATOS DEL PROCESO 4
B8: C.- DATOS ESPECIFICOS DEL PROCESO (Cumplimentándose una copia del apartado “C” por cada proceso)
B10: C.1.- DATOS GENERALES
B12: Nº de orden | D12: Denominación del proceso
B13: Descripción del proceso (adjuntar en su caso diagrama general del proceso)
B29: MAQUINARIA EMPLEADA
B40: MATERIAS PRIMAS CONSUMIDAS
B41: Descripción | J41: Cantidad anual
B52: PRODUCTOS OBTENIDOS
B53: Descripción | J53: Cantidad anual
B65: Cantidad anual total de producto obtenida en el proceso durante el año de referencia | H65: AÑO | I65: Cantidad | J65: Unidad
H66: ='C1-CENTRO PRODUCTOR 1'!J13 -> 2022
B68: C.2.- RESIDUOS PELIGROSOS GENERADOS
J70: AÑO | K70: =H66 -> 2022
B72: Nº de orden | C72: Descripción residuo | I72: Codigo LER | J72: Cantidad anual residuo peligroso generada (Kg) | K72: Cantidad anual por unidad de producción
K73: =J73/$I$66 -> #DIV/0!
K74: =J74/$I$66 -> #DIV/0!
K75: =J75/$I$66 -> #DIV/0!
K76: =J76/$I$66 -> #DIV/0!
K77: =J77/$I$66 -> #DIV/0!
K78: =J78/$I$66 -> #DIV/0!
K79: =J79/$I$66 -> #DIV/0!
K80: =J80/$I$66 -> #DIV/0!
K81: =J81/$I$66 -> #DIV/0!
K82: =J82/$I$66 -> #DIV/0!
K83: =J83/$I$66 -> #DIV/0!
K84: =J84/$I$66 -> #DIV/0!
... K112: =J112/$I$66 -> #DIV/0!
B113: Otros datos de interés
B120: C.3.- EVOLUCION EN LA GENERACIÓN DE RESIDUOS PELIGROSOS
B122: CANTIDAD GENERADA POR UNIDAD DE PRODUCCION EN AÑOS ANTERIORES AL PERIODO A PLANIFICAR
B123: Nº de orden | C123: Descripcion | H123: Codigo LER | I123: Cantidad año | J123: Cantidad año | K123: Cantidad año | L123: Cantidad año | M123: Nº sistema de minimización
I124: =L124-3 -> 2019 | J124: =L124-2 -> 2020 | K124: =L124-1 -> 2021 | L124: ='C1-CENTRO PRODUCTOR 1'!J13 -> 2022
B125: =B73 -> 0 | C125: =C73 -> 0 | H125: =I73 -> 0 | L125: =K73 -> #DIV/0!
B126: =B74 -> 0 | C126: =C74 -> 0 | H126: =I74 -> 0 | L126: =K74 -> #DIV/0!
B127: =B75 -> 0 | C127: =C75 -> 0 | H127: =I75 -> 0 | L127: =K75 -> #DIV/0!
B128: =B76 -> 0 | C128: =C76 -> 0 | H128: =I76 -> 0 | L128: =K76 -> #DIV/0!
B129: =B77 -> 0 | C129: =C77 -> 0 | H129: =I77 -> 0 | L129: =K77 -> #DIV/0!
B130: =B78 -> 0 | C130: =C78 -> 0 | H130: =I78 -> 0 | L130: =K78 -> #DIV/0!
B131: =B79 -> 0 | C131: =C79 -> 0 | H131: =I79 -> 0 | L131: =K79 -> #DIV/0!
B132: =B80 -> 0 | C132: =C80 -> 0 | H132: =I80 -> 0 | L132: =K80 -> #DIV/0!
B133: =B81 -> 0 | C133: =C81 -> 0 | H133: =I81 -> 0 | L133: =K81 -> #DIV/0!
B134: =B82 -> 0 | C134: =C82 -> 0 | H134: =I82 -> 0 | L134: =K82 -> #DIV/0!
B135: =B83 -> 0 | C135: =C83 -> 0 | H135: =I83 -> 0 | L135: =K83 -> #DIV/0!
B136: =B84 -> 0 | C136: =C84 -> 0 | H136: =I84 -> 0 | L136: =K84 -> #DIV/0!
... B164: =B112 -> 0 | C164: =C112 -> 0 | H164: =I112 -> 0 | L164: =K112 -> #DIV/0!
B166: Nota: Para el cálculo de la cantidad anual por unidad de producción ha de procederse a dividir la cantidad anual generada de cada residuo peligroso (en Kg) en el proceso productivo entre la cantidad anual de producto obtenida en el proceso. Ejemplo: Residuo generado = 100Kg (Kilogramos). Producto obtenido =1000 t (toneladas); Cantidad anual por unidad de producción =100 Kg /100 t = 0,1Kg Residuo/ t Producto
B168: CANTIDAD ESTIMADA POR UNIDAD DE PRODUCCION EN EL PERIODO A PLANIFICAR
B169: Nº de orden | C169: Descripcion | H169: Codigo LER | I169: Cantidad año | J169: Cantidad año | K169: Cantidad año | L169: Cantidad año | M169: Nº sistema de minimización | N169: Objetivo de minimizacion (%)
I170: ='C1-CENTRO PRODUCTOR 1'!H14 -> 2023 | J170: =I170+1 -> 2024 | K170: =I170+2 -> 2025 | L170: =I170+3 -> 2026
B171: =B73 -> 0 | C171: =C73 -> 0 | H171: =I73 -> 0 | N171: =100-((L171*100)/L125) -> #DIV/0!
B172: =B74 -> 0 | C172: =C74 -> 0 | H172: =I74 -> 0 | N172: =100-((L172*100)/L126) -> #DIV/0!
B173: =B75 -> 0 | C173: =C75 -> 0 | H173: =I75 -> 0 | N173: =100-((L173*100)/L127) -> #DIV/0!
B174: =B76 -> 0 | C174: =C76 -> 0 | H174: =I76 -> 0 | N174: =100-((L174*100)/L128) -> #DIV/0!
B175: =B77 -> 0 | C175: =C77 -> 0 | H175: =I77 -> 0 | N175: =100-((L175*100)/L129) -> #DIV/0!
B176: =B78 -> 0 | C176: =C78 -> 0 | H176: =I78 -> 0 | N176: =100-((L176*100)/L130) -> #DIV/0!
B177: =B79 -> 0 | C177: =C79 -> 0 | H177: =I79 -> 0 | N177: =100-((L177*100)/L131) -> #DIV/0!
B178: =B80 -> 0 | C178: =C80 -> 0 | H178: =I80 -> 0 | N178: =100-((L178*100)/L132) -> #DIV/0!
B179: =B81 -> 0 | C179: =C81 -> 0 | H179: =I81 -> 0 | N179: =100-((L179*100)/L133) -> #DIV/0!
B180: =B82 -> 0 | C180: =C82 -> 0 | H180: =I82 -> 0 | N180: =100-((L180*100)/L134) -> #DIV/0!
B181: =B83 -> 0 | C181: =C83 -> 0 | H181: =I83 -> 0 | N181: =100-((L181*100)/L135) -> #DIV/0!
B182: =B84 -> 0 | C182: =C84 -> 0 | H182: =I84 -> 0 | N182: =100-((L182*100)/L136) -> #DIV/0!
... B210: =B112 -> 0 | C210: =C112 -> 0 | H210: =I112 -> 0 | N210: =100-((L210*100)/L164) -> #DIV/0!
B212: Nota: Para el cálculo de la cantidad anual por unidad de producción ha de procederse a dividir la cantidad anual QUE SE PREVEA GENERAR de cada residuo peligroso (en Kg) en el proceso productivo entre la cantidad anual de producto QUE SE PREVEA OBTENER en el proceso.
B214: C.4.- MEDIDAS O SISTEMAS DE MINIMIZACION (Adjuntar, si se considera necesario, memoria y planos complementarios)
B217: Nº de sistema de minimizacion | C217: Descripción | K217: Fecha de implantación
B231: Otros datos de interés

Sheet C1P5-DATOS DEL PROCESO 5
B8: C.- DATOS ESPECIFICOS DEL PROCESO (Cumplimentándose una copia del apartado “C” por cada proceso)
B10: C.1.- DATOS GENERALES
B12: Nº de orden | D12: Denominación del proceso
B13: Descripción del proceso (adjuntar en su caso diagrama general del proceso)
B29: MAQUINARIA EMPLEADA
B40: MATERIAS PRIMAS CONSUMIDAS
B41: Descripción | J41: Cantidad anual
B52: PRODUCTOS OBTENIDOS
B53: Descripción | J53: Cantidad anual
B65: Cantidad anual total de producto obtenida en el proceso durante el año de referencia | H65: AÑO | I65: Cantidad | J65: Unidad
H66: ='C1-CENTRO PRODUCTOR 1'!J13 -> 2022
B68: C.2.- RESIDUOS PELIGROSOS GENERADOS
J70: AÑO | K70: =H66 -> 2022
B72: Nº de orden | C72: Descripción residuo | I72: Codigo LER | J72: Cantidad anual residuo peligroso generada (Kg) | K72: Cantidad anual por unidad de producción
K73: =J73/$I$66 -> #DIV/0!
K74: =J74/$I$66 -> #DIV/0!
K75: =J75/$I$66 -> #DIV/0!
K76: =J76/$I$66 -> #DIV/0!
K77: =J77/$I$66 -> #DIV/0!
K78: =J78/$I$66 -> #DIV/0!
K79: =J79/$I$66 -> #DIV/0!
K80: =J80/$I$66 -> #DIV/0!
K81: =J81/$I$66 -> #DIV/0!
K82: =J82/$I$66 -> #DIV/0!
K83: =J83/$I$66 -> #DIV/0!
K84: =J84/$I$66 -> #DIV/0!
... K112: =J112/$I$66 -> #DIV/0!
B113: Otros datos de interés
B120: C.3.- EVOLUCION EN LA GENERACIÓN DE RESIDUOS PELIGROSOS
B122: CANTIDAD GENERADA POR UNIDAD DE PRODUCCION EN AÑOS ANTERIORES AL PERIODO A PLANIFICAR
B123: Nº de orden | C123: Descripcion | H123: Codigo LER | I123: Cantidad año | J123: Cantidad año | K123: Cantidad año | L123: Cantidad año | M123: Nº sistema de minimización
I124: =L124-3 -> 2019 | J124: =L124-2 -> 2020 | K124: =L124-1 -> 2021 | L124: ='C1-CENTRO PRODUCTOR 1'!J13 -> 2022
B125: =B73 -> 0 | C125: =C73 -> 0 | H125: =I73 -> 0 | L125: =K73 -> #DIV/0!
B126: =B74 -> 0 | C126: =C74 -> 0 | H126: =I74 -> 0 | L126: =K74 -> #DIV/0!
B127: =B75 -> 0 | C127: =C75 -> 0 | H127: =I75 -> 0 | L127: =K75 -> #DIV/0!
B128: =B76 -> 0 | C128: =C76 -> 0 | H128: =I76 -> 0 | L128: =K76 -> #DIV/0!
B129: =B77 -> 0 | C129: =C77 -> 0 | H129: =I77 -> 0 | L129: =K77 -> #DIV/0!
B130: =B78 -> 0 | C130: =C78 -> 0 | H130: =I78 -> 0 | L130: =K78 -> #DIV/0!
B131: =B79 -> 0 | C131: =C79 -> 0 | H131: =I79 -> 0 | L131: =K79 -> #DIV/0!
B132: =B80 -> 0 | C132: =C80 -> 0 | H132: =I80 -> 0 | L132: =K80 -> #DIV/0!
B133: =B81 -> 0 | C133: =C81 -> 0 | H133: =I81 -> 0 | L133: =K81 -> #DIV/0!
B134: =B82 -> 0 | C134: =C82 -> 0 | H134: =I82 -> 0 | L134: =K82 -> #DIV/0!
B135: =B83 -> 0 | C135: =C83 -> 0 | H135: =I83 -> 0 | L135: =K83 -> #DIV/0!
B136: =B84 -> 0 | C136: =C84 -> 0 | H136: =I84 -> 0 | L136: =K84 -> #DIV/0!
... B164: =B112 -> 0 | C164: =C112 -> 0 | H164: =I112 -> 0 | L164: =K112 -> #DIV/0!
B166: Nota: Para el cálculo de la cantidad anual por unidad de producción ha de procederse a dividir la cantidad anual generada de cada residuo peligroso (en Kg) en el proceso productivo entre la cantidad anual de producto obtenida en el proceso. Ejemplo: Residuo generado = 100Kg (Kilogramos). Producto obtenido =1000 t (toneladas); Cantidad anual por unidad de producción =100 Kg /100 t = 0,1Kg Residuo/ t Producto
B168: CANTIDAD ESTIMADA POR UNIDAD DE PRODUCCION EN EL PERIODO A PLANIFICAR
B169: Nº de orden | C169: Descripcion | H169: Codigo LER | I169: Cantidad año | J169: Cantidad año | K169: Cantidad año | L169: Cantidad año | M169: Nº sistema de minimización | N169: Objetivo de minimizacion (%)
I170: ='C1-CENTRO PRODUCTOR 1'!H14 -> 2023 | J170: =I170+1 -> 2024 | K170: =I170+2 -> 2025 | L170: =I170+3 -> 2026
B171: =B73 -> 0 | C171: =C73 -> 0 | H171: =I73 -> 0 | N171: =100-((L171*100)/L125) -> #DIV/0!
B172: =B74 -> 0 | C172: =C74 -> 0 | H172: =I74 -> 0 | N172: =100-((L172*100)/L126) -> #DIV/0!
B173: =B75 -> 0 | C173: =C75 -> 0 | H173: =I75 -> 0 | N173: =100-((L173*100)/L127) -> #DIV/0!
B174: =B76 -> 0 | C174: =C76 -> 0 | H174: =I76 -> 0 | N174: =100-((L174*100)/L128) -> #DIV/0!
B175: =B77 -> 0 | C175: =C77 -> 0 | H175: =I77 -> 0 | N175: =100-((L175*100)/L129) -> #DIV/0!
B176: =B78 -> 0 | C176: =C78 -> 0 | H176: =I78 -> 0 | N176: =100-((L176*100)/L130) -> #DIV/0!
B177: =B79 -> 0 | C177: =C79 -> 0 | H177: =I79 -> 0 | N177: =100-((L177*100)/L131) -> #DIV/0!
B178: =B80 -> 0 | C178: =C80 -> 0 | H178: =I80 -> 0 | N178: =100-((L178*100)/L132) -> #DIV/0!
B179: =B81 -> 0 | C179: =C81 -> 0 | H179: =I81 -> 0 | N179: =100-((L179*100)/L133) -> #DIV/0!
B180: =B82 -> 0 | C180: =C82 -> 0 | H180: =I82 -> 0 | N180: =100-((L180*100)/L134) -> #DIV/0!
B181: =B83 -> 0 | C181: =C83 -> 0 | H181: =I83 -> 0 | N181: =100-((L181*100)/L135) -> #DIV/0!
B182: =B84 -> 0 | C182: =C84 -> 0 | H182: =I84 -> 0 | N182: =100-((L182*100)/L136) -> #DIV/0!
... B210: =B112 -> 0 | C210: =C112 -> 0 | H210: =I112 -> 0 | N210: =100-((L210*100)/L164) -> #DIV/0!
B212: Nota: Para el cálculo de la cantidad anual por unidad de producción ha de procederse a dividir la cantidad anual QUE SE PREVEA GENERAR de cada residuo peligroso (en Kg) en el proceso productivo entre la cantidad anual de producto QUE SE PREVEA OBTENER en el proceso.
B214: C.4.- MEDIDAS O SISTEMAS DE MINIMIZACION (Adjuntar, si se considera necesario, memoria y planos complementarios)
B217: Nº de sistema de minimizacion | C217: Descripción | K217: Fecha de implantación
B231: Otros datos de interés

Sheet C1P6-DATOS DEL PROCESO 6
B8: C.- DATOS ESPECIFICOS DEL PROCESO (Cumplimentándose una copia del apartado “C” por cada proceso)
B10: C.1.- DATOS GENERALES
B12: Nº de orden | D12: Denominación del proceso
B13: Descripción del proceso (adjuntar en su caso diagrama general del proceso)
B29: MAQUINARIA EMPLEADA
B40: MATERIAS PRIMAS CONSUMIDAS
B41: Descripción | J41: Cantidad anual
B52: PRODUCTOS OBTENIDOS
B53: Descripción | J53: Cantidad anual
B65: Cantidad anual total de producto obtenida en el proceso durante el año de referencia | H65: AÑO | I65: Cantidad | J65: Unidad
H66: ='C1-CENTRO PRODUCTOR 1'!J13 -> 2022
B68: C.2.- RESIDUOS PELIGROSOS GENERADOS
J70: AÑO | K70: =H66 -> 2022
B72: Nº de orden | C72: Descripción residuo | I72: Codigo LER | J72: Cantidad anual residuo peligroso generada (Kg) | K72: Cantidad anual por unidad de producción
K73: =J73/$I$66 -> #DIV/0!
K74: =J74/$I$66 -> #DIV/0!
K75: =J75/$I$66 -> #DIV/0!
K76: =J76/$I$66 -> #DIV/0!
K77: =J77/$I$66 -> #DIV/0!
K78: =J78/$I$66 -> #DIV/0!
K79: =J79/$I$66 -> #DIV/0!
K80: =J80/$I$66 -> #DIV/0!
K81: =J81/$I$66 -> #DIV/0!
K82: =J82/$I$66 -> #DIV/0!
K83: =J83/$I$66 -> #DIV/0!
K84: =J84/$I$66 -> #DIV/0!
... K112: =J112/$I$66 -> #DIV/0!
B113: Otros datos de interés
B120: C.3.- EVOLUCION EN LA GENERACIÓN DE RESIDUOS PELIGROSOS
B122: CANTIDAD GENERADA POR UNIDAD DE PRODUCCION EN AÑOS ANTERIORES AL PERIODO A PLANIFICAR
B123: Nº de orden | C123: Descripcion | H123: Codigo LER | I123: Cantidad año | J123: Cantidad año | K123: Cantidad año | L123: Cantidad año | M123: Nº sistema de minimización
I124: =L124-3 -> 2019 | J124: =L124-2 -> 2020 | K124: =L124-1 -> 2021 | L124: ='C1-CENTRO PRODUCTOR 1'!J13 -> 2022
B125: =B73 -> 0 | C125: =C73 -> 0 | H125: =I73 -> 0 | L125: =K73 -> #DIV/0!
B126: =B74 -> 0 | C126: =C74 -> 0 | H126: =I74 -> 0 | L126: =K74 -> #DIV/0!
B127: =B75 -> 0 | C127: =C75 -> 0 | H127: =I75 -> 0 | L127: =K75 -> #DIV/0!
B128: =B76 -> 0 | C128: =C76 -> 0 | H128: =I76 -> 0 | L128: =K76 -> #DIV/0!
B129: =B77 -> 0 | C129: =C77 -> 0 | H129: =I77 -> 0 | L129: =K77 -> #DIV/0!
B130: =B78 -> 0 | C130: =C78 -> 0 | H130: =I78 -> 0 | L130: =K78 -> #DIV/0!
B131: =B79 -> 0 | C131: =C79 -> 0 | H131: =I79 -> 0 | L131: =K79 -> #DIV/0!
B132: =B80 -> 0 | C132: =C80 -> 0 | H132: =I80 -> 0 | L132: =K80 -> #DIV/0!
B133: =B81 -> 0 | C133: =C81 -> 0 | H133: =I81 -> 0 | L133: =K81 -> #DIV/0!
B134: =B82 -> 0 | C134: =C82 -> 0 | H134: =I82 -> 0 | L134: =K82 -> #DIV/0!
B135: =B83 -> 0 | C135: =C83 -> 0 | H135: =I83 -> 0 | L135: =K83 -> #DIV/0!
B136: =B84 -> 0 | C136: =C84 -> 0 | H136: =I84 -> 0 | L136: =K84 -> #DIV/0!
... B164: =B112 -> 0 | C164: =C112 -> 0 | H164: =I112 -> 0 | L164: =K112 -> #DIV/0!
B166: Nota: Para el cálculo de la cantidad anual por unidad de producción ha de procederse a dividir la cantidad anual generada de cada residuo peligroso (en Kg) en el proceso productivo entre la cantidad anual de producto obtenida en el proceso. Ejemplo: Residuo generado = 100Kg (Kilogramos). Producto obtenido =1000 t (toneladas); Cantidad anual por unidad de producción =100 Kg /100 t = 0,1Kg Residuo/ t Producto
B168: CANTIDAD ESTIMADA POR UNIDAD DE PRODUCCION EN EL PERIODO A PLANIFICAR
B169: Nº de orden | C169: Descripcion | H169: Codigo LER | I169: Cantidad año | J169: Cantidad año | K169: Cantidad año | L169: Cantidad año | M169: Nº sistema de minimización | N169: Objetivo de minimizacion (%)
I170: ='C1-CENTRO PRODUCTOR 1'!H14 -> 2023 | J170: =I170+1 -> 2024 | K170: =I170+2 -> 2025 | L170: =I170+3 -> 2026
B171: =B73 -> 0 | C171: =C73 -> 0 | H171: =I73 -> 0 | N171: =100-((L171*100)/L125) -> #DIV/0!
B172: =B74 -> 0 | C172: =C74 -> 0 | H172: =I74 -> 0 | N172: =100-((L172*100)/L126) -> #DIV/0!
B173: =B75 -> 0 | C173: =C75 -> 0 | H173: =I75 -> 0 | N173: =100-((L173*100)/L127) -> #DIV/0!
B174: =B76 -> 0 | C174: =C76 -> 0 | H174: =I76 -> 0 | N174: =100-((L174*100)/L128) -> #DIV/0!
B175: =B77 -> 0 | C175: =C77 -> 0 | H175: =I77 -> 0 | N175: =100-((L175*100)/L129) -> #DIV/0!
B176: =B78 -> 0 | C176: =C78 -> 0 | H176: =I78 -> 0 | N176: =100-((L176*100)/L130) -> #DIV/0!
B177: =B79 -> 0 | C177: =C79 -> 0 | H177: =I79 -> 0 | N177: =100-((L177*100)/L131) -> #DIV/0!
B178: =B80 -> 0 | C178: =C80 -> 0 | H178: =I80 -> 0 | N178: =100-((L178*100)/L132) -> #DIV/0!
B179: =B81 -> 0 | C179: =C81 -> 0 | H179: =I81 -> 0 | N179: =100-((L179*100)/L133) -> #DIV/0!
B180: =B82 -> 0 | C180: =C82 -> 0 | H180: =I82 -> 0 | N180: =100-((L180*100)/L134) -> #DIV/0!
B181: =B83 -> 0 | C181: =C83 -> 0 | H181: =I83 -> 0 | N181: =100-((L181*100)/L135) -> #DIV/0!
B182: =B84 -> 0 | C182: =C84 -> 0 | H182: =I84 -> 0 | N182: =100-((L182*100)/L136) -> #DIV/0!
... B210: =B112 -> 0 | C210: =C112 -> 0 | H210: =I112 -> 0 | N210: =100-((L210*100)/L164) -> #DIV/0!
B212: Nota: Para el cálculo de la cantidad anual por unidad de producción ha de procederse a dividir la cantidad anual QUE SE PREVEA GENERAR de cada residuo peligroso (en Kg) en el proceso productivo entre la cantidad anual de producto QUE SE PREVEA OBTENER en el proceso.
B214: C.4.- MEDIDAS O SISTEMAS DE MINIMIZACION (Adjuntar, si se considera necesario, memoria y planos complementarios)
B217: Nº de sistema de minimizacion | C217: Descripción | K217: Fecha de implantación
B231: Otros datos de interés

Sheet C1P7-DATOS DEL PROCESO 7
B8: C.- DATOS ESPECIFICOS DEL PROCESO (Cumplimentándose una copia del apartado “C” por cada proceso)
B10: C.1.- DATOS GENERALES
B12: Nº de orden | D12: Denominación del proceso
B13: Descripción del proceso (adjuntar en su caso diagrama general del proceso)
B29: MAQUINARIA EMPLEADA
B40: MATERIAS PRIMAS CONSUMIDAS
B41: Descripción | J41: Cantidad anual
B52: PRODUCTOS OBTENIDOS
B53: Descripción | J53: Cantidad anual
B65: Cantidad anual total de producto obtenida en el proceso durante el año de referencia | H65: AÑO | I65: Cantidad | J65: Unidad
H66: ='C1-CENTRO PRODUCTOR 1'!J13 -> 2022
B68: C.2.- RESIDUOS PELIGROSOS GENERADOS
J70: AÑO | K70: =H66 -> 2022
B72: Nº de orden | C72: Descripción residuo | I72: Codigo LER | J72: Cantidad anual residuo peligroso generada (Kg) | K72: Cantidad anual por unidad de producción
K73: =J73/$I$66 -> #DIV/0!
K74: =J74/$I$66 -> #DIV/0!
K75: =J75/$I$66 -> #DIV/0!
K76: =J76/$I$66 -> #DIV/0!
K77: =J77/$I$66 -> #DIV/0!
K78: =J78/$I$66 -> #DIV/0!
K79: =J79/$I$66 -> #DIV/0!
K80: =J80/$I$66 -> #DIV/0!
K81: =J81/$I$66 -> #DIV/0!
K82: =J82/$I$66 -> #DIV/0!
K83: =J83/$I$66 -> #DIV/0!
K84: =J84/$I$66 -> #DIV/0!
... K112: =J112/$I$66 -> #DIV/0!
B113: Otros datos de interés
B120: C.3.- EVOLUCION EN LA GENERACIÓN DE RESIDUOS PELIGROSOS
B122: CANTIDAD GENERADA POR UNIDAD DE PRODUCCION EN AÑOS ANTERIORES AL PERIODO A PLANIFICAR
B123: Nº de orden | C123: Descripcion | H123: Codigo LER | I123: Cantidad año | J123: Cantidad año | K123: Cantidad año | L123: Cantidad año | M123: Nº sistema de minimización
I124: =L124-3 -> 2019 | J124: =L124-2 -> 2020 | K124: =L124-1 -> 2021 | L124: ='C1-CENTRO PRODUCTOR 1'!J13 -> 2022
B125: =B73 -> 0 | C125: =C73 -> 0 | H125: =I73 -> 0 | L125: =K73 -> #DIV/0!
B126: =B74 -> 0 | C126: =C74 -> 0 | H126: =I74 -> 0 | L126: =K74 -> #DIV/0!
B127: =B75 -> 0 | C127: =C75 -> 0 | H127: =I75 -> 0 | L127: =K75 -> #DIV/0!
B128: =B76 -> 0 | C128: =C76 -> 0 | H128: =I76 -> 0 | L128: =K76 -> #DIV/0!
B129: =B77 -> 0 | C129: =C77 -> 0 | H129: =I77 -> 0 | L129: =K77 -> #DIV/0!
B130: =B78 -> 0 | C130: =C78 -> 0 | H130: =I78 -> 0 | L130: =K78 -> #DIV/0!
B131: =B79 -> 0 | C131: =C79 -> 0 | H131: =I79 -> 0 | L131: =K79 -> #DIV/0!
B132: =B80 -> 0 | C132: =C80 -> 0 | H132: =I80 -> 0 | L132: =K80 -> #DIV/0!
B133: =B81 -> 0 | C133: =C81 -> 0 | H133: =I81 -> 0 | L133: =K81 -> #DIV/0!
B134: =B82 -> 0 | C134: =C82 -> 0 | H134: =I82 -> 0 | L134: =K82 -> #DIV/0!
B135: =B83 -> 0 | C135: =C83 -> 0 | H135: =I83 -> 0 | L135: =K83 -> #DIV/0!
B136: =B84 -> 0 | C136: =C84 -> 0 | H136: =I84 -> 0 | L136: =K84 -> #DIV/0!
... B164: =B112 -> 0 | C164: =C112 -> 0 | H164: =I112 -> 0 | L164: =K112 -> #DIV/0!
B166: Nota: Para el cálculo de la cantidad anual por unidad de producción ha de procederse a dividir la cantidad anual generada de cada residuo peligroso (en Kg) en el proceso productivo entre la cantidad anual de producto obtenida en el proceso. Ejemplo: Residuo generado = 100Kg (Kilogramos). Producto obtenido =1000 t (toneladas); Cantidad anual por unidad de producción =100 Kg /100 t = 0,1Kg Residuo/ t Producto
B168: CANTIDAD ESTIMADA POR UNIDAD DE PRODUCCION EN EL PERIODO A PLANIFICAR
B169: Nº de orden | C169: Descripcion | H169: Codigo LER | I169: Cantidad año | J169: Cantidad año | K169: Cantidad año | L169: Cantidad año | M169: Nº sistema de minimización | N169: Objetivo de minimizacion (%)
I170: ='C1-CENTRO PRODUCTOR 1'!H14 -> 2023 | J170: =I170+1 -> 2024 | K170: =I170+2 -> 2025 | L170: =I170+3 -> 2026
B171: =B73 -> 0 | C171: =C73 -> 0 | H171: =I73 -> 0 | N171: =100-((L171*100)/L125) -> #DIV/0!
B172: =B74 -> 0 | C172: =C74 -> 0 | H172: =I74 -> 0 | N172: =100-((L172*100)/L126) -> #DIV/0!
B173: =B75 -> 0 | C173: =C75 -> 0 | H173: =I75 -> 0 | N173: =100-((L173*100)/L127) -> #DIV/0!
B174: =B76 -> 0 | C174: =C76 -> 0 | H174: =I76 -> 0 | N174: =100-((L174*100)/L128) -> #DIV/0!
B175: =B77 -> 0 | C175: =C77 -> 0 | H175: =I77 -> 0 | N175: =100-((L175*100)/L129) -> #DIV/0!
B176: =B78 -> 0 | C176: =C78 -> 0 | H176: =I78 -> 0 | N176: =100-((L176*100)/L130) -> #DIV/0!
B177: =B79 -> 0 | C177: =C79 -> 0 | H177: =I79 -> 0 | N177: =100-((L177*100)/L131) -> #DIV/0!
B178: =B80 -> 0 | C178: =C80 -> 0 | H178: =I80 -> 0 | N178: =100-((L178*100)/L132) -> #DIV/0!
B179: =B81 -> 0 | C179: =C81 -> 0 | H179: =I81 -> 0 | N179: =100-((L179*100)/L133) -> #DIV/0!
B180: =B82 -> 0 | C180: =C82 -> 0 | H180: =I82 -> 0 | N180: =100-((L180*100)/L134) -> #DIV/0!
B181: =B83 -> 0 | C181: =C83 -> 0 | H181: =I83 -> 0 | N181: =100-((L181*100)/L135) -> #DIV/0!
B182: =B84 -> 0 | C182: =C84 -> 0 | H182: =I84 -> 0 | N182: =100-((L182*100)/L136) -> #DIV/0!
... B210: =B112 -> 0 | C210: =C112 -> 0 | H210: =I112 -> 0 | N210: =100-((L210*100)/L164) -> #DIV/0!
B212: Nota: Para el cálculo de la cantidad anual por unidad de producción ha de procederse a dividir la cantidad anual QUE SE PREVEA GENERAR de cada residuo peligroso (en Kg) en el proceso productivo entre la cantidad anual de producto QUE SE PREVEA OBTENER en el proceso.
B214: C.4.- MEDIDAS O SISTEMAS DE MINIMIZACION (Adjuntar, si se considera necesario, memoria y planos complementarios)
B217: Nº de sistema de minimizacion | C217: Descripción | K217: Fecha de implantación
B231: Otros datos de interés

Sheet C1P8-DATOS DEL PROCESO 8
B8: C.- DATOS ESPECIFICOS DEL PROCESO (Cumplimentándose una copia del apartado “C” por cada proceso)
B10: C.1.- DATOS GENERALES
B12: Nº de orden | D12: Denominación del proceso
B13: Descripción del proceso (adjuntar en su caso diagrama general del proceso)
B29: MAQUINARIA EMPLEADA
B40: MATERIAS PRIMAS CONSUMIDAS
B41: Descripción | J41: Cantidad anual
B52: PRODUCTOS OBTENIDOS
B53: Descripción | J53: Cantidad anual
B65: Cantidad anual total de producto obtenida en el proceso durante el año de referencia | H65: AÑO | I65: Cantidad | J65: Unidad
H66: ='C1-CENTRO PRODUCTOR 1'!J13 -> 2022
B68: C.2.- RESIDUOS PELIGROSOS GENERADOS
J70: AÑO | K70: =H66 -> 2022
B72: Nº de orden | C72: Descripción residuo | I72: Codigo LER | J72: Cantidad anual residuo peligroso generada (Kg) | K72: Cantidad anual por unidad de producción
K73: =J73/$I$66 -> #DIV/0!
K74: =J74/$I$66 -> #DIV/0!
K75: =J75/$I$66 -> #DIV/0!
K76: =J76/$I$66 -> #DIV/0!
K77: =J77/$I$66 -> #DIV/0!
K78: =J78/$I$66 -> #DIV/0!
K79: =J79/$I$66 -> #DIV/0!
K80: =J80/$I$66 -> #DIV/0!
K81: =J81/$I$66 -> #DIV/0!
K82: =J82/$I$66 -> #DIV/0!
K83: =J83/$I$66 -> #DIV/0!
K84: =J84/$I$66 -> #DIV/0!
... K112: =J112/$I$66 -> #DIV/0!
B113: Otros datos de interés
B120: C.3.- EVOLUCION EN LA GENERACIÓN DE RESIDUOS PELIGROSOS
B122: CANTIDAD GENERADA POR UNIDAD DE PRODUCCION EN AÑOS ANTERIORES AL PERIODO A PLANIFICAR
B123: Nº de orden | C123: Descripcion | H123: Codigo LER | I123: Cantidad año | J123: Cantidad año | K123: Cantidad año | L123: Cantidad año | M123: Nº sistema de minimización
I124: =L124-3 -> 2019 | J124: =L124-2 -> 2020 | K124: =L124-1 -> 2021 | L124: ='C1-CENTRO PRODUCTOR 1'!J13 -> 2022
B125: =B73 -> 0 | C125: =C73 -> 0 | H125: =I73 -> 0 | L125: =K73 -> #DIV/0!
B126: =B74 -> 0 | C126: =C74 -> 0 | H126: =I74 -> 0 | L126: =K74 -> #DIV/0!
B127: =B75 -> 0 | C127: =C75 -> 0 | H127: =I75 -> 0 | L127: =K75 -> #DIV/0!
B128: =B76 -> 0 | C128: =C76 -> 0 | H128: =I76 -> 0 | L128: =K76 -> #DIV/0!
B129: =B77 -> 0 | C129: =C77 -> 0 | H129: =I77 -> 0 | L129: =K77 -> #DIV/0!
B130: =B78 -> 0 | C130: =C78 -> 0 | H130: =I78 -> 0 | L130: =K78 -> #DIV/0!
B131: =B79 -> 0 | C131: =C79 -> 0 | H131: =I79 -> 0 | L131: =K79 -> #DIV/0!
B132: =B80 -> 0 | C132: =C80 -> 0 | H132: =I80 -> 0 | L132: =K80 -> #DIV/0!
B133: =B81 -> 0 | C133: =C81 -> 0 | H133: =I81 -> 0 | L133: =K81 -> #DIV/0!
B134: =B82 -> 0 | C134: =C82 -> 0 | H134: =I82 -> 0 | L134: =K82 -> #DIV/0!
B135: =B83 -> 0 | C135: =C83 -> 0 | H135: =I83 -> 0 | L135: =K83 -> #DIV/0!
B136: =B84 -> 0 | C136: =C84 -> 0 | H136: =I84 -> 0 | L136: =K84 -> #DIV/0!
... B164: =B112 -> 0 | C164: =C112 -> 0 | H164: =I112 -> 0 | L164: =K112 -> #DIV/0!
B166: Nota: Para el cálculo de la cantidad anual por unidad de producción ha de procederse a dividir la cantidad anual generada de cada residuo peligroso (en Kg) en el proceso productivo entre la cantidad anual de producto obtenida en el proceso. Ejemplo: Residuo generado = 100Kg (Kilogramos). Producto obtenido =1000 t (toneladas); Cantidad anual por unidad de producción =100 Kg /100 t = 0,1Kg Residuo/ t Producto
B168: CANTIDAD ESTIMADA POR UNIDAD DE PRODUCCION EN EL PERIODO A PLANIFICAR
B169: Nº de orden | C169: Descripcion | H169: Codigo LER | I169: Cantidad año | J169: Cantidad año | K169: Cantidad año | L169: Cantidad año | M169: Nº sistema de minimización | N169: Objetivo de minimizacion (%)
I170: ='C1-CENTRO PRODUCTOR 1'!H14 -> 2023 | J170: =I170+1 -> 2024 | K170: =I170+2 -> 2025 | L170: =I170+3 -> 2026
B171: =B73 -> 0 | C171: =C73 -> 0 | H171: =I73 -> 0 | N171: =100-((L171*100)/L125) -> #DIV/0!
B172: =B74 -> 0 | C172: =C74 -> 0 | H172: =I74 -> 0 | N172: =100-((L172*100)/L126) -> #DIV/0!
B173: =B75 -> 0 | C173: =C75 -> 0 | H173: =I75 -> 0 | N173: =100-((L173*100)/L127) -> #DIV/0!
B174: =B76 -> 0 | C174: =C76 -> 0 | H174: =I76 -> 0 | N174: =100-((L174*100)/L128) -> #DIV/0!
B175: =B77 -> 0 | C175: =C77 -> 0 | H175: =I77 -> 0 | N175: =100-((L175*100)/L129) -> #DIV/0!
B176: =B78 -> 0 | C176: =C78 -> 0 | H176: =I78 -> 0 | N176: =100-((L176*100)/L130) -> #DIV/0!
B177: =B79 -> 0 | C177: =C79 -> 0 | H177: =I79 -> 0 | N177: =100-((L177*100)/L131) -> #DIV/0!
B178: =B80 -> 0 | C178: =C80 -> 0 | H178: =I80 -> 0 | N178: =100-((L178*100)/L132) -> #DIV/0!
B179: =B81 -> 0 | C179: =C81 -> 0 | H179: =I81 -> 0 | N179: =100-((L179*100)/L133) -> #DIV/0!
B180: =B82 -> 0 | C180: =C82 -> 0 | H180: =I82 -> 0 | N180: =100-((L180*100)/L134) -> #DIV/0!
B181: =B83 -> 0 | C181: =C83 -> 0 | H181: =I83 -> 0 | N181: =100-((L181*100)/L135) -> #DIV/0!
B182: =B84 -> 0 | C182: =C84 -> 0 | H182: =I84 -> 0 | N182: =100-((L182*100)/L136) -> #DIV/0!
... B210: =B112 -> 0 | C210: =C112 -> 0 | H210: =I112 -> 0 | N210: =100-((L210*100)/L164) -> #DIV/0!
B212: Nota: Para el cálculo de la cantidad anual por unidad de producción ha de procederse a dividir la cantidad anual QUE SE PREVEA GENERAR de cada residuo peligroso (en Kg) en el proceso productivo entre la cantidad anual de producto QUE SE PREVEA OBTENER en el proceso.
B214: C.4.- MEDIDAS O SISTEMAS DE MINIMIZACION (Adjuntar, si se considera necesario, memoria y planos complementarios)
B217: Nº de sistema de minimizacion | C217: Descripción | K217: Fecha de implantación
B231: Otros datos de interés

Sheet C1P9-DATOS DEL PROCESO 9
B8: C.- DATOS ESPECIFICOS DEL PROCESO (Cumplimentándose una copia del apartado “C” por cada proceso)
B10: C.1.- DATOS GENERALES
B12: Nº de orden | D12: Denominación del proceso
B13: Descripción del proceso (adjuntar en su caso diagrama general del proceso)
B29: MAQUINARIA EMPLEADA
B40: MATERIAS PRIMAS CONSUMIDAS
B41: Descripción | J41: Cantidad anual
B52: PRODUCTOS OBTENIDOS
B53: Descripción | J53: Cantidad anual
B65: Cantidad anual total de producto obtenida en el proceso durante el año de referencia | H65: AÑO | I65: Cantidad | J65: Unidad
H66: ='C1-CENTRO PRODUCTOR 1'!J13 -> 2022
B68: C.2.- RESIDUOS PELIGROSOS GENERADOS
J70: AÑO | K70: =H66 -> 2022
B72: Nº de orden | C72: Descripción residuo | I72: Codigo LER | J72: Cantidad anual residuo peligroso generada (Kg) | K72: Cantidad anual por unidad de producción
K73: =J73/$I$66 -> #DIV/0!
K74: =J74/$I$66 -> #DIV/0!
K75: =J75/$I$66 -> #DIV/0!
K76: =J76/$I$66 -> #DIV/0!
K77: =J77/$I$66 -> #DIV/0!
K78: =J78/$I$66 -> #DIV/0!
K79: =J79/$I$66 -> #DIV/0!
K80: =J80/$I$66 -> #DIV/0!
K81: =J81/$I$66 -> #DIV/0!
K82: =J82/$I$66 -> #DIV/0!
K83: =J83/$I$66 -> #DIV/0!
K84: =J84/$I$66 -> #DIV/0!
... K112: =J112/$I$66 -> #DIV/0!
B113: Otros datos de interés
B120: C.3.- EVOLUCION EN LA GENERACIÓN DE RESIDUOS PELIGROSOS
B122: CANTIDAD GENERADA POR UNIDAD DE PRODUCCION EN AÑOS ANTERIORES AL PERIODO A PLANIFICAR
B123: Nº de orden | C123: Descripcion | H123: Codigo LER | I123: Cantidad año | J123: Cantidad año | K123: Cantidad año | L123: Cantidad año | M123: Nº sistema de minimización
I124: =L124-3 -> 2019 | J124: =L124-2 -> 2020 | K124: =L124-1 -> 2021 | L124: ='C1-CENTRO PRODUCTOR 1'!J13 -> 2022
B125: =B73 -> 0 | C125: =C73 -> 0 | H125: =I73 -> 0 | L125: =K73 -> #DIV/0!
B126: =B74 -> 0 | C126: =C74 -> 0 | H126: =I74 -> 0 | L126: =K74 -> #DIV/0!
B127: =B75 -> 0 | C127: =C75 -> 0 | H127: =I75 -> 0 | L127: =K75 -> #DIV/0!
B128: =B76 -> 0 | C128: =C76 -> 0 | H128: =I76 -> 0 | L128: =K76 -> #DIV/0!
B129: =B77 -> 0 | C129: =C77 -> 0 | H129: =I77 -> 0 | L129: =K77 -> #DIV/0!
B130: =B78 -> 0 | C130: =C78 -> 0 | H130: =I78 -> 0 | L130: =K78 -> #DIV/0!
B131: =B79 -> 0 | C131: =C79 -> 0 | H131: =I79 -> 0 | L131: =K79 -> #DIV/0!
B132: =B80 -> 0 | C132: =C80 -> 0 | H132: =I80 -> 0 | L132: =K80 -> #DIV/0!
B133: =B81 -> 0 | C133: =C81 -> 0 | H133: =I81 -> 0 | L133: =K81 -> #DIV/0!
B134: =B82 -> 0 | C134: =C82 -> 0 | H134: =I82 -> 0 | L134: =K82 -> #DIV/0!
B135: =B83 -> 0 | C135: =C83 -> 0 | H135: =I83 -> 0 | L135: =K83 -> #DIV/0!
B136: =B84 -> 0 | C136: =C84 -> 0 | H136: =I84 -> 0 | L136: =K84 -> #DIV/0!
... B164: =B112 -> 0 | C164: =C112 -> 0 | H164: =I112 -> 0 | L164: =K112 -> #DIV/0!
B166: Nota: Para el cálculo de la cantidad anual por unidad de producción ha de procederse a dividir la cantidad anual generada de cada residuo peligroso (en Kg) en el proceso productivo entre la cantidad anual de producto obtenida en el proceso. Ejemplo: Residuo generado = 100Kg (Kilogramos). Producto obtenido =1000 t (toneladas); Cantidad anual por unidad de producción =100 Kg /100 t = 0,1Kg Residuo/ t Producto
B168: CANTIDAD ESTIMADA POR UNIDAD DE PRODUCCION EN EL PERIODO A PLANIFICAR
B169: Nº de orden | C169: Descripcion | H169: Codigo LER | I169: Cantidad año | J169: Cantidad año | K169: Cantidad año | L169: Cantidad año | M169: Nº sistema de minimización | N169: Objetivo de minimizacion (%)
I170: ='C1-CENTRO PRODUCTOR 1'!H14 -> 2023 | J170: =I170+1 -> 2024 | K170: =I170+2 -> 2025 | L170: =I170+3 -> 2026
B171: =B73 -> 0 | C171: =C73 -> 0 | H171: =I73 -> 0 | N171: =100-((L171*100)/L125) -> #DIV/0!
B172: =B74 -> 0 | C172: =C74 -> 0 | H172: =I74 -> 0 | N172: =100-((L172*100)/L126) -> #DIV/0!
B173: =B75 -> 0 | C173: =C75 -> 0 | H173: =I75 -> 0 | N173: =100-((L173*100)/L127) -> #DIV/0!
B174: =B76 -> 0 | C174: =C76 -> 0 | H174: =I76 -> 0 | N174: =100-((L174*100)/L128) -> #DIV/0!
B175: =B77 -> 0 | C175: =C77 -> 0 | H175: =I77 -> 0 | N175: =100-((L175*100)/L129) -> #DIV/0!
B176: =B78 -> 0 | C176: =C78 -> 0 | H176: =I78 -> 0 | N176: =100-((L176*100)/L130) -> #DIV/0!
B177: =B79 -> 0 | C177: =C79 -> 0 | H177: =I79 -> 0 | N177: =100-((L177*100)/L131) -> #DIV/0!
B178: =B80 -> 0 | C178: =C80 -> 0 | H178: =I80 -> 0 | N178: =100-((L178*100)/L132) -> #DIV/0!
B179: =B81 -> 0 | C179: =C81 -> 0 | H179: =I81 -> 0 | N179: =100-((L179*100)/L133) -> #DIV/0!
B180: =B82 -> 0 | C180: =C82 -> 0 | H180: =I82 -> 0 | N180: =100-((L180*100)/L134) -> #DIV/0!
B181: =B83 -> 0 | C181: =C83 -> 0 | H181: =I83 -> 0 | N181: =100-((L181*100)/L135) -> #DIV/0!
B182: =B84 -> 0 | C182: =C84 -> 0 | H182: =I84 -> 0 | N182: =100-((L182*100)/L136) -> #DIV/0!
... B210: =B112 -> 0 | C210: =C112 -> 0 | H210: =I112 -> 0 | N210: =100-((L210*100)/L164) -> #DIV/0!
B212: Nota: Para el cálculo de la cantidad anual por unidad de producción ha de procederse a dividir la cantidad anual QUE SE PREVEA GENERAR de cada residuo peligroso (en Kg) en el proceso productivo entre la cantidad anual de producto QUE SE PREVEA OBTENER en el proceso.
B214: C.4.- MEDIDAS O SISTEMAS DE MINIMIZACION (Adjuntar, si se considera necesario, memoria y planos complementarios)
B217: Nº de sistema de minimizacion | C217: Descripción | K217: Fecha de implantación
B231: Otros datos de interés

Sheet C1P10-DATOS DEL PROCESO 10
B8: C.- DATOS ESPECIFICOS DEL PROCESO (Cumplimentándose una copia del apartado “C” por cada proceso)
B10: C.1.- DATOS GENERALES
B12: Nº de orden | D12: Denominación del proceso
B13: Descripción del proceso (adjuntar en su caso diagrama general del proceso)
B29: MAQUINARIA EMPLEADA
B40: MATERIAS PRIMAS CONSUMIDAS
B41: Descripción | J41: Cantidad anual
B52: PRODUCTOS OBTENIDOS
B53: Descripción | J53: Cantidad anual
B65: Cantidad anual total de producto obtenida en el proceso durante el año de referencia | H65: AÑO | I65: Cantidad | J65: Unidad
H66: ='C1-CENTRO PRODUCTOR 1'!J13 -> 2022
B68: C.2.- RESIDUOS PELIGROSOS GENERADOS
J70: AÑO | K70: =H66 -> 2022
B72: Nº de orden | C72: Descripción residuo | I72: Codigo LER | J72: Cantidad anual residuo peligroso generada (Kg) | K72: Cantidad anual por unidad de producción
K73: =J73/$I$66 -> #DIV/0!
K74: =J74/$I$66 -> #DIV/0!
K75: =J75/$I$66 -> #DIV/0!
K76: =J76/$I$66 -> #DIV/0!
K77: =J77/$I$66 -> #DIV/0!
K78: =J78/$I$66 -> #DIV/0!
K79: =J79/$I$66 -> #DIV/0!
K80: =J80/$I$66 -> #DIV/0!
K81: =J81/$I$66 -> #DIV/0!
K82: =J82/$I$66 -> #DIV/0!
K83: =J83/$I$66 -> #DIV/0!
K84: =J84/$I$66 -> #DIV/0!
... K112: =J112/$I$66 -> #DIV/0!
B113: Otros datos de interés
B120: C.3.- EVOLUCION EN LA GENERACIÓN DE RESIDUOS PELIGROSOS
B122: CANTIDAD GENERADA POR UNIDAD DE PRODUCCION EN AÑOS ANTERIORES AL PERIODO A PLANIFICAR
B123: Nº de orden | C123: Descripcion | H123: Codigo LER | I123: Cantidad año | J123: Cantidad año | K123: Cantidad año | L123: Cantidad año | M123: Nº sistema de minimización
I124: =L124-3 -> 2019 | J124: =L124-2 -> 2020 | K124: =L124-1 -> 2021 | L124: ='C1-CENTRO PRODUCTOR 1'!J13 -> 2022
B125: =B73 -> 0 | C125: =C73 -> 0 | H125: =I73 -> 0 | L125: =K73 -> #DIV/0!
B126: =B74 -> 0 | C126: =C74 -> 0 | H126: =I74 -> 0 | L126: =K74 -> #DIV/0!
B127: =B75 -> 0 | C127: =C75 -> 0 | H127: =I75 -> 0 | L127: =K75 -> #DIV/0!
B128: =B76 -> 0 | C128: =C76 -> 0 | H128: =I76 -> 0 | L128: =K76 -> #DIV/0!
B129: =B77 -> 0 | C129: =C77 -> 0 | H129: =I77 -> 0 | L129: =K77 -> #DIV/0!
B130: =B78 -> 0 | C130: =C78 -> 0 | H130: =I78 -> 0 | L130: =K78 -> #DIV/0!
B131: =B79 -> 0 | C131: =C79 -> 0 | H131: =I79 -> 0 | L131: =K79 -> #DIV/0!
B132: =B80 -> 0 | C132: =C80 -> 0 | H132: =I80 -> 0 | L132: =K80 -> #DIV/0!
B133: =B81 -> 0 | C133: =C81 -> 0 | H133: =I81 -> 0 | L133: =K81 -> #DIV/0!
B134: =B82 -> 0 | C134: =C82 -> 0 | H134: =I82 -> 0 | L134: =K82 -> #DIV/0!
B135: =B83 -> 0 | C135: =C83 -> 0 | H135: =I83 -> 0 | L135: =K83 -> #DIV/0!
B136: =B84 -> 0 | C136: =C84 -> 0 | H136: =I84 -> 0 | L136: =K84 -> #DIV/0!
... B164: =B112 -> 0 | C164: =C112 -> 0 | H164: =I112 -> 0 | L164: =K112 -> #DIV/0!
B166: Nota: Para el cálculo de la cantidad anual por unidad de producción ha de procederse a dividir la cantidad anual generada de cada residuo peligroso (en Kg) en el proceso productivo entre la cantidad anual de producto obtenida en el proceso. Ejemplo: Residuo generado = 100Kg (Kilogramos). Producto obtenido =1000 t (toneladas); Cantidad anual por unidad de producción =100 Kg /100 t = 0,1Kg Residuo/ t Producto
B168: CANTIDAD ESTIMADA POR UNIDAD DE PRODUCCION EN EL PERIODO A PLANIFICAR
B169: Nº de orden | C169: Descripcion | H169: Codigo LER | I169: Cantidad año | J169: Cantidad año | K169: Cantidad año | L169: Cantidad año | M169: Nº sistema de minimización | N169: Objetivo de minimizacion (%)
I170: ='C1-CENTRO PRODUCTOR 1'!H14 -> 2023 | J170: =I170+1 -> 2024 | K170: =I170+2 -> 2025 | L170: =I170+3 -> 2026
B171: =B73 -> 0 | C171: =C73 -> 0 | H171: =I73 -> 0 | N171: =100-((L171*100)/L125) -> #DIV/0!
B172: =B74 -> 0 | C172: =C74 -> 0 | H172: =I74 -> 0 | N172: =100-((L172*100)/L126) -> #DIV/0!
B173: =B75 -> 0 | C173: =C75 -> 0 | H173: =I75 -> 0 | N173: =100-((L173*100)/L127) -> #DIV/0!
B174: =B76 -> 0 | C174: =C76 -> 0 | H174: =I76 -> 0 | N174: =100-((L174*100)/L128) -> #DIV/0!
B175: =B77 -> 0 | C175: =C77 -> 0 | H175: =I77 -> 0 | N175: =100-((L175*100)/L129) -> #DIV/0!
B176: =B78 -> 0 | C176: =C78 -> 0 | H176: =I78 -> 0 | N176: =100-((L176*100)/L130) -> #DIV/0!
B177: =B79 -> 0 | C177: =C79 -> 0 | H177: =I79 -> 0 | N177: =100-((L177*100)/L131) -> #DIV/0!
B178: =B80 -> 0 | C178: =C80 -> 0 | H178: =I80 -> 0 | N178: =100-((L178*100)/L132) -> #DIV/0!
B179: =B81 -> 0 | C179: =C81 -> 0 | H179: =I81 -> 0 | N179: =100-((L179*100)/L133) -> #DIV/0!
B180: =B82 -> 0 | C180: =C82 -> 0 | H180: =I82 -> 0 | N180: =100-((L180*100)/L134) -> #DIV/0!
B181: =B83 -> 0 | C181: =C83 -> 0 | H181: =I83 -> 0 | N181: =100-((L181*100)/L135) -> #DIV/0!
B182: =B84 -> 0 | C182: =C84 -> 0 | H182: =I84 -> 0 | N182: =100-((L182*100)/L136) -> #DIV/0!
... B210: =B112 -> 0 | C210: =C112 -> 0 | H210: =I112 -> 0 | N210: =100-((L210*100)/L164) -> #DIV/0!
B212: Nota: Para el cálculo de la cantidad anual por unidad de producción ha de procederse a dividir la cantidad anual QUE SE PREVEA GENERAR de cada residuo peligroso (en Kg) en el proceso productivo entre la cantidad anual de producto QUE SE PREVEA OBTENER en el proceso.
B214: C.4.- MEDIDAS O SISTEMAS DE MINIMIZACION (Adjuntar, si se considera necesario, memoria y planos complementarios)
B217: Nº de sistema de minimizacion | C217: Descripción | K217: Fecha de implantación
B231: Otros datos de interés

Sheet C1P11-DATOS DEL PROCESO 11
B8: C.- DATOS ESPECIFICOS DEL PROCESO (Cumplimentándose una copia del apartado “C” por cada proceso)
B10: C.1.- DATOS GENERALES
B12: Nº de orden | D12: Denominación del proceso
B13: Descripción del proceso (adjuntar en su caso diagrama general del proceso)
B29: MAQUINARIA EMPLEADA
B40: MATERIAS PRIMAS CONSUMIDAS
B41: Descripción | J41: Cantidad anual
B52: PRODUCTOS OBTENIDOS
B53: Descripción | J53: Cantidad anual
B65: Cantidad anual total de producto obtenida en el proceso durante el año de referencia | H65: AÑO | I65: Cantidad | J65: Unidad
H66: ='C1-CENTRO PRODUCTOR 1'!J13 -> 2022
B68: C.2.- RESIDUOS PELIGROSOS GENERADOS
J70: AÑO | K70: =H66 -> 2022
B72: Nº de orden | C72: Descripción residuo | I72: Codigo LER | J72: Cantidad anual residuo peligroso generada (Kg) | K72: Cantidad anual por unidad de producción
K73: =J73/$I$66 -> #DIV/0!
K74: =J74/$I$66 -> #DIV/0!
K75: =J75/$I$66 -> #DIV/0!
K76: =J76/$I$66 -> #DIV/0!
K77: =J77/$I$66 -> #DIV/0!
K78: =J78/$I$66 -> #DIV/0!
K79: =J79/$I$66 -> #DIV/0!
K80: =J80/$I$66 -> #DIV/0!
K81: =J81/$I$66 -> #DIV/0!
K82: =J82/$I$66 -> #DIV/0!
K83: =J83/$I$66 -> #DIV/0!
K84: =J84/$I$66 -> #DIV/0!
... K112: =J112/$I$66 -> #DIV/0!
B113: Otros datos de interés
B120: C.3.- EVOLUCION EN LA GENERACIÓN DE RESIDUOS PELIGROSOS
B122: CANTIDAD GENERADA POR UNIDAD DE PRODUCCION EN AÑOS ANTERIORES AL PERIODO A PLANIFICAR
B123: Nº de orden | C123: Descripcion | H123: Codigo LER | I123: Cantidad año | J123: Cantidad año | K123: Cantidad año | L123: Cantidad año | M123: Nº sistema de minimización
I124: =L124-3 -> 2019 | J124: =L124-2 -> 2020 | K124: =L124-1 -> 2021 | L124: ='C1-CENTRO PRODUCTOR 1'!J13 -> 2022
B125: =B73 -> 0 | C125: =C73 -> 0 | H125: =I73 -> 0 | L125: =K73 -> #DIV/0!
B126: =B74 -> 0 | C126: =C74 -> 0 | H126: =I74 -> 0 | L126: =K74 -> #DIV/0!
B127: =B75 -> 0 | C127: =C75 -> 0 | H127: =I75 -> 0 | L127: =K75 -> #DIV/0!
B128: =B76 -> 0 | C128: =C76 -> 0 | H128: =I76 -> 0 | L128: =K76 -> #DIV/0!
B129: =B77 -> 0 | C129: =C77 -> 0 | H129: =I77 -> 0 | L129: =K77 -> #DIV/0!
B130: =B78 -> 0 | C130: =C78 -> 0 | H130: =I78 -> 0 | L130: =K78 -> #DIV/0!
B131: =B79 -> 0 | C131: =C79 -> 0 | H131: =I79 -> 0 | L131: =K79 -> #DIV/0!
B132: =B80 -> 0 | C132: =C80 -> 0 | H132: =I80 -> 0 | L132: =K80 -> #DIV/0!
B133: =B81 -> 0 | C133: =C81 -> 0 | H133: =I81 -> 0 | L133: =K81 -> #DIV/0!
B134: =B82 -> 0 | C134: =C82 -> 0 | H134: =I82 -> 0 | L134: =K82 -> #DIV/0!
B135: =B83 -> 0 | C135: =C83 -> 0 | H135: =I83 -> 0 | L135: =K83 -> #DIV/0!
B136: =B84 -> 0 | C136: =C84 -> 0 | H136: =I84 -> 0 | L136: =K84 -> #DIV/0!
... B164: =B112 -> 0 | C164: =C112 -> 0 | H164: =I112 -> 0 | L164: =K112 -> #DIV/0!
B166: Nota: Para el cálculo de la cantidad anual por unidad de producción ha de procederse a dividir la cantidad anual generada de cada residuo peligroso (en Kg) en el proceso productivo entre la cantidad anual de producto obtenida en el proceso. Ejemplo: Residuo generado = 100Kg (Kilogramos). Producto obtenido =1000 t (toneladas); Cantidad anual por unidad de producción =100 Kg /100 t = 0,1Kg Residuo/ t Producto
B168: CANTIDAD ESTIMADA POR UNIDAD DE PRODUCCION EN EL PERIODO A PLANIFICAR
B169: Nº de orden | C169: Descripcion | H169: Codigo LER | I169: Cantidad año | J169: Cantidad año | K169: Cantidad año | L169: Cantidad año | M169: Nº sistema de minimización | N169: Objetivo de minimizacion (%)
I170: ='C1-CENTRO PRODUCTOR 1'!H14 -> 2023 | J170: =I170+1 -> 2024 | K170: =I170+2 -> 2025 | L170: =I170+3 -> 2026
B171: =B73 -> 0 | C171: =C73 -> 0 | H171: =I73 -> 0 | N171: =100-((L171*100)/L125) -> #DIV/0!
B172: =B74 -> 0 | C172: =C74 -> 0 | H172: =I74 -> 0 | N172: =100-((L172*100)/L126) -> #DIV/0!
B173: =B75 -> 0 | C173: =C75 -> 0 | H173: =I75 -> 0 | N173: =100-((L173*100)/L127) -> #DIV/0!
B174: =B76 -> 0 | C174: =C76 -> 0 | H174: =I76 -> 0 | N174: =100-((L174*100)/L128) -> #DIV/0!
B175: =B77 -> 0 | C175: =C77 -> 0 | H175: =I77 -> 0 | N175: =100-((L175*100)/L129) -> #DIV/0!
B176: =B78 -> 0 | C176: =C78 -> 0 | H176: =I78 -> 0 | N176: =100-((L176*100)/L130) -> #DIV/0!
B177: =B79 -> 0 | C177: =C79 -> 0 | H177: =I79 -> 0 | N177: =100-((L177*100)/L131) -> #DIV/0!
B178: =B80 -> 0 | C178: =C80 -> 0 | H178: =I80 -> 0 | N178: =100-((L178*100)/L132) -> #DIV/0!
B179: =B81 -> 0 | C179: =C81 -> 0 | H179: =I81 -> 0 | N179: =100-((L179*100)/L133) -> #DIV/0!
B180: =B82 -> 0 | C180: =C82 -> 0 | H180: =I82 -> 0 | N180: =100-((L180*100)/L134) -> #DIV/0!
B181: =B83 -> 0 | C181: =C83 -> 0 | H181: =I83 -> 0 | N181: =100-((L181*100)/L135) -> #DIV/0!
B182: =B84 -> 0 | C182: =C84 -> 0 | H182: =I84 -> 0 | N182: =100-((L182*100)/L136) -> #DIV/0!
... B210: =B112 -> 0 | C210: =C112 -> 0 | H210: =I112 -> 0 | N210: =100-((L210*100)/L164) -> #DIV/0!
B212: Nota: Para el cálculo de la cantidad anual por unidad de producción ha de procederse a dividir la cantidad anual QUE SE PREVEA GENERAR de cada residuo peligroso (en Kg) en el proceso productivo entre la cantidad anual de producto QUE SE PREVEA OBTENER en el proceso.
B214: C.4.- MEDIDAS O SISTEMAS DE MINIMIZACION (Adjuntar, si se considera necesario, memoria y planos complementarios)
B217: Nº de sistema de minimizacion | C217: Descripción | K217: Fecha de implantación
B231: Otros datos de interés

Sheet C2-CENTRO PRODUCTOR 2
B8: B.- CARACTERÍSTICAS DEL CENTRO DE PRODUCCIÓN DE RESIDUOS PELIGROSOS. En caso de existir varios centros de trabajo P01 localizados en Cantabria deberá cumplimentarse una copia de este formato por cada centro (incluidos en este formulario hasta 3 centros).
B10: DATOS PREVIOS PARA LA DETERMINACION DEL PERIODO A PLANIFICAR
B12: Año en el cual se realizo la comunicación de productor P01 al Gobierno de Cantabria
B13: Año de referencia para el informe de resultados | J13: =IF(J12<2022,2022,J12+1) -> 2022
B14: Periodo objeto del plan de minimizacion de residuos peligrosos | G14: Desde | H14: ='C1-CENTRO PRODUCTOR 1'!H14 -> 2023 | I14: Hasta | J14: ='C1-CENTRO PRODUCTOR 1'!J14 -> 2026
B16: B.1.- DATOS GENERALES DEL CENTRO Nº 2
B18: Denominacion del centro
B19: Actividad | I19: CNAE
B20: N.I.M.A. | E20: Nº Inscripción en el registro
B21: Dirección
B22: Localidad
B23: Municipio | H23: Provincia
B24: Codigo postal | D24: Teléfono | F24: Email
B25: Persona encargada de la gestión de los residuos | D25: Nombre y apellidos
D26: D.N.I. | F26: Cargo
D27: E-mail
D28: Teléfono de contacto

Sheet C2P1-DATOS DEL PROCESO 1
B8: C.- DATOS ESPECIFICOS DEL PROCESO (Cumplimentándose una copia del apartado “C” por cada proceso)
B10: C.1.- DATOS GENERALES
B12: Nº de orden | D12: Denominación del proceso
B13: Descripción del proceso (adjuntar en su caso diagrama general del proceso)
B29: MAQUINARIA EMPLEADA
B40: MATERIAS PRIMAS CONSUMIDAS
B41: Descripción | J41: Cantidad anual
B52: PRODUCTOS OBTENIDOS
B53: Descripción | J53: Cantidad anual
B65: Cantidad anual total de producto obtenida en el proceso durante el año de referencia | H65: AÑO | I65: Cantidad | J65: Unidad
H66: ='C1-CENTRO PRODUCTOR 1'!J13 -> 2022
B68: C.2.- RESIDUOS PELIGROSOS GENERADOS
J70: AÑO | K70: =H66 -> 2022
B72: Nº de orden | C72: Descripción residuo | I72: Codigo LER | J72: Cantidad anual residuo peligroso generada (Kg) | K72: Cantidad anual por unidad de producción
K73: =J73/$I$66 -> #DIV/0!
K74: =J74/$I$66 -> #DIV/0!
K75: =J75/$I$66 -> #DIV/0!
K76: =J76/$I$66 -> #DIV/0!
K77: =J77/$I$66 -> #DIV/0!
K78: =J78/$I$66 -> #DIV/0!
K79: =J79/$I$66 -> #DIV/0!
K80: =J80/$I$66 -> #DIV/0!
K81: =J81/$I$66 -> #DIV/0!
K82: =J82/$I$66 -> #DIV/0!
K83: =J83/$I$66 -> #DIV/0!
K84: =J84/$I$66 -> #DIV/0!
... K112: =J112/$I$66 -> #DIV/0!
B113: Otros datos de interés
B120: C.3.- EVOLUCION EN LA GENERACIÓN DE RESIDUOS PELIGROSOS
B122: CANTIDAD GENERADA POR UNIDAD DE PRODUCCION EN AÑOS ANTERIORES AL PERIODO A PLANIFICAR
B123: Nº de orden | C123: Descripcion | H123: Codigo LER | I123: Cantidad año | J123: Cantidad año | K123: Cantidad año | L123: Cantidad año | M123: Nº sistema de minimización
I124: =L124-3 -> 2019 | J124: =L124-2 -> 2020 | K124: =L124-1 -> 2021 | L124: ='C1-CENTRO PRODUCTOR 1'!J13 -> 2022
B125: =B73 -> 0 | C125: =C73 -> 0 | H125: =I73 -> 0 | L125: =K73 -> #DIV/0!
B126: =B74 -> 0 | C126: =C74 -> 0 | H126: =I74 -> 0 | L126: =K74 -> #DIV/0!
B127: =B75 -> 0 | C127: =C75 -> 0 | H127: =I75 -> 0 | L127: =K75 -> #DIV/0!
B128: =B76 -> 0 | C128: =C76 -> 0 | H128: =I76 -> 0 | L128: =K76 -> #DIV/0!
B129: =B77 -> 0 | C129: =C77 -> 0 | H129: =I77 -> 0 | L129: =K77 -> #DIV/0!
B130: =B78 -> 0 | C130: =C78 -> 0 | H130: =I78 -> 0 | L130: =K78 -> #DIV/0!
B131: =B79 -> 0 | C131: =C79 -> 0 | H131: =I79 -> 0 | L131: =K79 -> #DIV/0!
B132: =B80 -> 0 | C132: =C80 -> 0 | H132: =I80 -> 0 | L132: =K80 -> #DIV/0!
B133: =B81 -> 0 | C133: =C81 -> 0 | H133: =I81 -> 0 | L133: =K81 -> #DIV/0!
B134: =B82 -> 0 | C134: =C82 -> 0 | H134: =I82 -> 0 | L134: =K82 -> #DIV/0!
B135: =B83 -> 0 | C135: =C83 -> 0 | H135: =I83 -> 0 | L135: =K83 -> #DIV/0!
B136: =B84 -> 0 | C136: =C84 -> 0 | H136: =I84 -> 0 | L136: =K84 -> #DIV/0!
... B164: =B112 -> 0 | C164: =C112 -> 0 | H164: =I112 -> 0 | L164: =K112 -> #DIV/0!
B166: Nota: Para el cálculo de la cantidad anual por unidad de producción ha de procederse a dividir la cantidad anual generada de cada residuo peligroso (en Kg) en el proceso productivo entre la cantidad anual de producto obtenida en el proceso. Ejemplo: Residuo generado = 100Kg (Kilogramos). Producto obtenido =1000 t (toneladas); Cantidad anual por unidad de producción =100 Kg /100 t = 0,1Kg Residuo/ t Producto
B168: CANTIDAD ESTIMADA POR UNIDAD DE PRODUCCION EN EL PERIODO A PLANIFICAR
B169: Nº de orden | C169: Descripcion | H169: Codigo LER | I169: Cantidad año | J169: Cantidad año | K169: Cantidad año | L169: Cantidad año | M169: Nº sistema de minimización | N169: Objetivo de minimizacion (%)
I170: ='C1-CENTRO PRODUCTOR 1'!H14 -> 2023 | J170: =I170+1 -> 2024 | K170: =I170+2 -> 2025 | L170: =I170+3 -> 2026
B171: =B73 -> 0 | C171: =C73 -> 0 | H171: =I73 -> 0 | N171: =100-((L171*100)/L125) -> #DIV/0!
B172: =B74 -> 0 | C172: =C74 -> 0 | H172: =I74 -> 0 | N172: =100-((L172*100)/L126) -> #DIV/0!
B173: =B75 -> 0 | C173: =C75 -> 0 | H173: =I75 -> 0 | N173: =100-((L173*100)/L127) -> #DIV/0!
B174: =B76 -> 0 | C174: =C76 -> 0 | H174: =I76 -> 0 | N174: =100-((L174*100)/L128) -> #DIV/0!
B175: =B77 -> 0 | C175: =C77 -> 0 | H175: =I77 -> 0 | N175: =100-((L175*100)/L129) -> #DIV/0!
B176: =B78 -> 0 | C176: =C78 -> 0 | H176: =I78 -> 0 | N176: =100-((L176*100)/L130) -> #DIV/0!
B177: =B79 -> 0 | C177: =C79 -> 0 | H177: =I79 -> 0 | N177: =100-((L177*100)/L131) -> #DIV/0!
B178: =B80 -> 0 | C178: =C80 -> 0 | H178: =I80 -> 0 | N178: =100-((L178*100)/L132) -> #DIV/0!
B179: =B81 -> 0 | C179: =C81 -> 0 | H179: =I81 -> 0 | N179: =100-((L179*100)/L133) -> #DIV/0!
B180: =B82 -> 0 | C180: =C82 -> 0 | H180: =I82 -> 0 | N180: =100-((L180*100)/L134) -> #DIV/0!
B181: =B83 -> 0 | C181: =C83 -> 0 | H181: =I83 -> 0 | N181: =100-((L181*100)/L135) -> #DIV/0!
B182: =B84 -> 0 | C182: =C84 -> 0 | H182: =I84 -> 0 | N182: =100-((L182*100)/L136) -> #DIV/0!
... B210: =B112 -> 0 | C210: =C112 -> 0 | H210: =I112 -> 0 | N210: =100-((L210*100)/L164) -> #DIV/0!
B212: Nota: Para el cálculo de la cantidad anual por unidad de producción ha de procederse a dividir la cantidad anual QUE SE PREVEA GENERAR de cada residuo peligroso (en Kg) en el proceso productivo entre la cantidad anual de producto QUE SE PREVEA OBTENER en el proceso.
B214: C.4.- MEDIDAS O SISTEMAS DE MINIMIZACION (Adjuntar, si se considera necesario, memoria y planos complementarios)
B217: Nº de sistema de minimizacion | C217: Descripción | K217: Fecha de implantación
B231: Otros datos de interés

Sheet C2P2-DATOS DEL PROCESO 2
B8: C.- DATOS ESPECIFICOS DEL PROCESO (Cumplimentándose una copia del apartado “C” por cada proceso)
B10: C.1.- DATOS GENERALES
B12: Nº de orden | D12: Denominación del proceso
B13: Descripción del proceso (adjuntar en su caso diagrama general del proceso)
B29: MAQUINARIA EMPLEADA
B40: MATERIAS PRIMAS CONSUMIDAS
B41: Descripción | J41: Cantidad anual
B52: PRODUCTOS OBTENIDOS
B53: Descripción | J53: Cantidad anual
B65: Cantidad anual total de producto obtenida en el proceso durante el año de referencia | H65: AÑO | I65: Cantidad | J65: Unidad
H66: ='C1-CENTRO PRODUCTOR 1'!J13 -> 2022
B68: C.2.- RESIDUOS PELIGROSOS GENERADOS
J70: AÑO | K70: =H66 -> 2022
B72: Nº de orden | C72: Descripción residuo | I72: Codigo LER | J72: Cantidad anual residuo peligroso generada (Kg) | K72: Cantidad anual por unidad de producción
K73: =J73/$I$66 -> #DIV/0!
K74: =J74/$I$66 -> #DIV/0!
K75: =J75/$I$66 -> #DIV/0!
K76: =J76/$I$66 -> #DIV/0!
K77: =J77/$I$66 -> #DIV/0!
K78: =J78/$I$66 -> #DIV/0!
K79: =J79/$I$66 -> #DIV/0!
K80: =J80/$I$66 -> #DIV/0!
K81: =J81/$I$66 -> #DIV/0!
K82: =J82/$I$66 -> #DIV/0!
K83: =J83/$I$66 -> #DIV/0!
K84: =J84/$I$66 -> #DIV/0!
... K112: =J112/$I$66 -> #DIV/0!
B113: Otros datos de interés
B120: C.3.- EVOLUCION EN LA GENERACIÓN DE RESIDUOS PELIGROSOS
B122: CANTIDAD GENERADA POR UNIDAD DE PRODUCCION EN AÑOS ANTERIORES AL PERIODO A PLANIFICAR
B123: Nº de orden | C123: Descripcion | H123: Codigo LER | I123: Cantidad año | J123: Cantidad año | K123: Cantidad año | L123: Cantidad año | M123: Nº sistema de minimización
I124: =L124-3 -> 2019 | J124: =L124-2 -> 2020 | K124: =L124-1 -> 2021 | L124: ='C1-CENTRO PRODUCTOR 1'!J13 -> 2022
B125: =B73 -> 0 | C125: =C73 -> 0 | H125: =I73 -> 0 | L125: =K73 -> #DIV/0!
B126: =B74 -> 0 | C126: =C74 -> 0 | H126: =I74 -> 0 | L126: =K74 -> #DIV/0!
B127: =B75 -> 0 | C127: =C75 -> 0 | H127: =I75 -> 0 | L127: =K75 -> #DIV/0!
B128: =B76 -> 0 | C128: =C76 -> 0 | H128: =I76 -> 0 | L128: =K76 -> #DIV/0!
B129: =B77 -> 0 | C129: =C77 -> 0 | H129: =I77 -> 0 | L129: =K77 -> #DIV/0!
B130: =B78 -> 0 | C130: =C78 -> 0 | H130: =I78 -> 0 | L130: =K78 -> #DIV/0!
B131: =B79 -> 0 | C131: =C79 -> 0 | H131: =I79 -> 0 | L131: =K79 -> #DIV/0!
B132: =B80 -> 0 | C132: =C80 -> 0 | H132: =I80 -> 0 | L132: =K80 -> #DIV/0!
B133: =B81 -> 0 | C133: =C81 -> 0 | H133: =I81 -> 0 | L133: =K81 -> #DIV/0!
B134: =B82 -> 0 | C134: =C82 -> 0 | H134: =I82 -> 0 | L134: =K82 -> #DIV/0!
B135: =B83 -> 0 | C135: =C83 -> 0 | H135: =I83 -> 0 | L135: =K83 -> #DIV/0!
B136: =B84 -> 0 | C136: =C84 -> 0 | H136: =I84 -> 0 | L136: =K84 -> #DIV/0!
... B164: =B112 -> 0 | C164: =C112 -> 0 | H164: =I112 -> 0 | L164: =K112 -> #DIV/0!
B166: Nota: Para el cálculo de la cantidad anual por unidad de producción ha de procederse a dividir la cantidad anual generada de cada residuo peligroso (en Kg) en el proceso productivo entre la cantidad anual de producto obtenida en el proceso. Ejemplo: Residuo generado = 100Kg (Kilogramos). Producto obtenido =1000 t (toneladas); Cantidad anual por unidad de producción =100 Kg /100 t = 0,1Kg Residuo/ t Producto
B168: CANTIDAD ESTIMADA POR UNIDAD DE PRODUCCION EN EL PERIODO A PLANIFICAR
B169: Nº de orden | C169: Descripcion | H169: Codigo LER | I169: Cantidad año | J169: Cantidad año | K169: Cantidad año | L169: Cantidad año | M169: Nº sistema de minimización | N169: Objetivo de minimizacion (%)
I170: ='C1-CENTRO PRODUCTOR 1'!H14 -> 2023 | J170: =I170+1 -> 2024 | K170: =I170+2 -> 2025 | L170: =I170+3 -> 2026
B171: =B73 -> 0 | C171: =C73 -> 0 | H171: =I73 -> 0 | N171: =100-((L171*100)/L125) -> #DIV/0!
B172: =B74 -> 0 | C172: =C74 -> 0 | H172: =I74 -> 0 | N172: =100-((L172*100)/L126) -> #DIV/0!
B173: =B75 -> 0 | C173: =C75 -> 0 | H173: =I75 -> 0 | N173: =100-((L173*100)/L127) -> #DIV/0!
B174: =B76 -> 0 | C174: =C76 -> 0 | H174: =I76 -> 0 | N174: =100-((L174*100)/L128) -> #DIV/0!
B175: =B77 -> 0 | C175: =C77 -> 0 | H175: =I77 -> 0 | N175: =100-((L175*100)/L129) -> #DIV/0!
B176: =B78 -> 0 | C176: =C78 -> 0 | H176: =I78 -> 0 | N176: =100-((L176*100)/L130) -> #DIV/0!
B177: =B79 -> 0 | C177: =C79 -> 0 | H177: =I79 -> 0 | N177: =100-((L177*100)/L131) -> #DIV/0!
B178: =B80 -> 0 | C178: =C80 -> 0 | H178: =I80 -> 0 | N178: =100-((L178*100)/L132) -> #DIV/0!
B179: =B81 -> 0 | C179: =C81 -> 0 | H179: =I81 -> 0 | N179: =100-((L179*100)/L133) -> #DIV/0!
B180: =B82 -> 0 | C180: =C82 -> 0 | H180: =I82 -> 0 | N180: =100-((L180*100)/L134) -> #DIV/0!
B181: =B83 -> 0 | C181: =C83 -> 0 | H181: =I83 -> 0 | N181: =100-((L181*100)/L135) -> #DIV/0!
B182: =B84 -> 0 | C182: =C84 -> 0 | H182: =I84 -> 0 | N182: =100-((L182*100)/L136) -> #DIV/0!
... B210: =B112 -> 0 | C210: =C112 -> 0 | H210: =I112 -> 0 | N210: =100-((L210*100)/L164) -> #DIV/0!
B212: Nota: Para el cálculo de la cantidad anual por unidad de producción ha de procederse a dividir la cantidad anual QUE SE PREVEA GENERAR de cada residuo peligroso (en Kg) en el proceso productivo entre la cantidad anual de producto QUE SE PREVEA OBTENER en el proceso.
B214: C.4.- MEDIDAS O SISTEMAS DE MINIMIZACION (Adjuntar, si se considera necesario, memoria y planos complementarios)
B217: Nº de sistema de minimizacion | C217: Descripción | K217: Fecha de implantación
B231: Otros datos de interés

Sheet C2P3-DATOS DEL PROCESO 3
B8: C.- DATOS ESPECIFICOS DEL PROCESO (Cumplimentándose una copia del apartado “C” por cada proceso)
B10: C.1.- DATOS GENERALES
B12: Nº de orden | D12: Denominación del proceso
B13: Descripción del proceso (adjuntar en su caso diagrama general del proceso)
B29: MAQUINARIA EMPLEADA
B40: MATERIAS PRIMAS CONSUMIDAS
B41: Descripción | J41: Cantidad anual
B52: PRODUCTOS OBTENIDOS
B53: Descripción | J53: Cantidad anual
B65: Cantidad anual total de producto obtenida en el proceso durante el año de referencia | H65: AÑO | I65: Cantidad | J65: Unidad
H66: ='C1-CENTRO PRODUCTOR 1'!J13 -> 2022
B68: C.2.- RESIDUOS PELIGROSOS GENERADOS
J70: AÑO | K70: =H66 -> 2022
B72: Nº de orden | C72: Descripción residuo | I72: Codigo LER | J72: Cantidad anual residuo peligroso generada (Kg) | K72: Cantidad anual por unidad de producción
K73: =J73/$I$66 -> #DIV/0!
K74: =J74/$I$66 -> #DIV/0!
K75: =J75/$I$66 -> #DIV/0!
K76: =J76/$I$66 -> #DIV/0!
K77: =J77/$I$66 -> #DIV/0!
K78: =J78/$I$66 -> #DIV/0!
K79: =J79/$I$66 -> #DIV/0!
K80: =J80/$I$66 -> #DIV/0!
K81: =J81/$I$66 -> #DIV/0!
K82: =J82/$I$66 -> #DIV/0!
K83: =J83/$I$66 -> #DIV/0!
K84: =J84/$I$66 -> #DIV/0!
... K112: =J112/$I$66 -> #DIV/0!
B113: Otros datos de interés
B120: C.3.- EVOLUCION EN LA GENERACIÓN DE RESIDUOS PELIGROSOS
B122: CANTIDAD GENERADA POR UNIDAD DE PRODUCCION EN AÑOS ANTERIORES AL PERIODO A PLANIFICAR
B123: Nº de orden | C123: Descripcion | H123: Codigo LER | I123: Cantidad año | J123: Cantidad año | K123: Cantidad año | L123: Cantidad año | M123: Nº sistema de minimización
I124: =L124-3 -> 2019 | J124: =L124-2 -> 2020 | K124: =L124-1 -> 2021 | L124: ='C1-CENTRO PRODUCTOR 1'!J13 -> 2022
B125: =B73 -> 0 | C125: =C73 -> 0 | H125: =I73 -> 0 | L125: =K73 -> #DIV/0!
B126: =B74 -> 0 | C126: =C74 -> 0 | H126: =I74 -> 0 | L126: =K74 -> #DIV/0!
B127: =B75 -> 0 | C127: =C75 -> 0 | H127: =I75 -> 0 | L127: =K75 -> #DIV/0!
B128: =B76 -> 0 | C128: =C76 -> 0 | H128: =I76 -> 0 | L128: =K76 -> #DIV/0!
B129: =B77 -> 0 | C129: =C77 -> 0 | H129: =I77 -> 0 | L129: =K77 -> #DIV/0!
B130: =B78 -> 0 | C130: =C78 -> 0 | H130: =I78 -> 0 | L130: =K78 -> #DIV/0!
B131: =B79 -> 0 | C131: =C79 -> 0 | H131: =I79 -> 0 | L131: =K79 -> #DIV/0!
B132: =B80 -> 0 | C132: =C80 -> 0 | H132: =I80 -> 0 | L132: =K80 -> #DIV/0!
B133: =B81 -> 0 | C133: =C81 -> 0 | H133: =I81 -> 0 | L133: =K81 -> #DIV/0!
B134: =B82 -> 0 | C134: =C82 -> 0 | H134: =I82 -> 0 | L134: =K82 -> #DIV/0!
B135: =B83 -> 0 | C135: =C83 -> 0 | H135: =I83 -> 0 | L135: =K83 -> #DIV/0!
B136: =B84 -> 0 | C136: =C84 -> 0 | H136: =I84 -> 0 | L136: =K84 -> #DIV/0!
... B164: =B112 -> 0 | C164: =C112 -> 0 | H164: =I112 -> 0 | L164: =K112 -> #DIV/0!
B166: Nota: Para el cálculo de la cantidad anual por unidad de producción ha de procederse a dividir la cantidad anual generada de cada residuo peligroso (en Kg) en el proceso productivo entre la cantidad anual de producto obtenida en el proceso. Ejemplo: Residuo generado = 100Kg (Kilogramos). Producto obtenido =1000 t (toneladas); Cantidad anual por unidad de producción =100 Kg /100 t = 0,1Kg Residuo/ t Producto
B168: CANTIDAD ESTIMADA POR UNIDAD DE PRODUCCION EN EL PERIODO A PLANIFICAR
B169: Nº de orden | C169: Descripcion | H169: Codigo LER | I169: Cantidad año | J169: Cantidad año | K169: Cantidad año | L169: Cantidad año | M169: Nº sistema de minimización | N169: Objetivo de minimizacion (%)
I170: ='C1-CENTRO PRODUCTOR 1'!H14 -> 2023 | J170: =I170+1 -> 2024 | K170: =I170+2 -> 2025 | L170: =I170+3 -> 2026
B171: =B73 -> 0 | C171: =C73 -> 0 | H171: =I73 -> 0 | N171: =100-((L171*100)/L125) -> #DIV/0!
B172: =B74 -> 0 | C172: =C74 -> 0 | H172: =I74 -> 0 | N172: =100-((L172*100)/L126) -> #DIV/0!
B173: =B75 -> 0 | C173: =C75 -> 0 | H173: =I75 -> 0 | N173: =100-((L173*100)/L127) -> #DIV/0!
B174: =B76 -> 0 | C174: =C76 -> 0 | H174: =I76 -> 0 | N174: =100-((L174*100)/L128) -> #DIV/0!
B175: =B77 -> 0 | C175: =C77 -> 0 | H175: =I77 -> 0 | N175: =100-((L175*100)/L129) -> #DIV/0!
B176: =B78 -> 0 | C176: =C78 -> 0 | H176: =I78 -> 0 | N176: =100-((L176*100)/L130) -> #DIV/0!
B177: =B79 -> 0 | C177: =C79 -> 0 | H177: =I79 -> 0 | N177: =100-((L177*100)/L131) -> #DIV/0!
B178: =B80 -> 0 | C178: =C80 -> 0 | H178: =I80 -> 0 | N178: =100-((L178*100)/L132) -> #DIV/0!
B179: =B81 -> 0 | C179: =C81 -> 0 | H179: =I81 -> 0 | N179: =100-((L179*100)/L133) -> #DIV/0!
B180: =B82 -> 0 | C180: =C82 -> 0 | H180: =I82 -> 0 | N180: =100-((L180*100)/L134) -> #DIV/0!
B181: =B83 -> 0 | C181: =C83 -> 0 | H181: =I83 -> 0 | N181: =100-((L181*100)/L135) -> #DIV/0!
B182: =B84 -> 0 | C182: =C84 -> 0 | H182: =I84 -> 0 | N182: =100-((L182*100)/L136) -> #DIV/0!
... B210: =B112 -> 0 | C210: =C112 -> 0 | H210: =I112 -> 0 | N210: =100-((L210*100)/L164) -> #DIV/0!
B212: Nota: Para el cálculo de la cantidad anual por unidad de producción ha de procederse a dividir la cantidad anual QUE SE PREVEA GENERAR de cada residuo peligroso (en Kg) en el proceso productivo entre la cantidad anual de producto QUE SE PREVEA OBTENER en el proceso.
B214: C.4.- MEDIDAS O SISTEMAS DE MINIMIZACION (Adjuntar, si se considera necesario, memoria y planos complementarios)
B217: Nº de sistema de minimizacion | C217: Descripción | K217: Fecha de implantación
B231: Otros datos de interés

Sheet C3-CENTRO PRODUCTOR 3
B8: B.- CARACTERÍSTICAS DEL CENTRO DE PRODUCCIÓN DE RESIDUOS PELIGROSOS. En caso de existir varios centros de trabajo P01 localizados en Cantabria deberá cumplimentarse una copia de este formato por cada centro (incluidos en este formulario hasta 3 centros).
B10: DATOS PREVIOS PARA LA DETERMINACION DEL PERIODO A PLANIFICAR
B12: Año en el cual se realizo la comunicación de productor P01 al Gobierno de Cantabria
B13: Año de referencia para el informe de resultados | J13: =IF(J12<2022,2022,J12+1) -> 2022
B14: Periodo objeto del plan de minimizacion de residuos peligrosos | G14: Desde | H14: ='C1-CENTRO PRODUCTOR 1'!H14 -> 2023 | I14: Hasta | J14: ='C1-CENTRO PRODUCTOR 1'!J14 -> 2026
B16: B.1.- DATOS GENERALES DEL CENTRO Nº 3
B18: Denominacion del centro
B19: Actividad | I19: CNAE
B20: N.I.M.A. | E20: Nº Inscripción en el registro
B21: Dirección
B22: Localidad
B23: Municipio | H23: Provincia
B24: Codigo postal | D24: Teléfono | F24: Email
B25: Persona encargada de la gestión de los residuos | D25: Nombre y apellidos
D26: D.N.I. | F26: Cargo
D27: E-mail
D28: Teléfono de contacto

Sheet C3P1-DATOS DEL PROCESO 1
B8: C.- DATOS ESPECIFICOS DEL PROCESO (Cumplimentándose una copia del apartado “C” por cada proceso)
B10: C.1.- DATOS GENERALES
B12: Nº de orden | D12: Denominación del proceso
B13: Descripción del proceso (adjuntar en su caso diagrama general del proceso)
B29: MAQUINARIA EMPLEADA
B40: MATERIAS PRIMAS CONSUMIDAS
B41: Descripción | J41: Cantidad anual
B52: PRODUCTOS OBTENIDOS
B53: Descripción | J53: Cantidad anual
B65: Cantidad anual total de producto obtenida en el proceso durante el año de referencia | H65: AÑO | I65: Cantidad | J65: Unidad
H66: ='C1-CENTRO PRODUCTOR 1'!J13 -> 2022
B68: C.2.- RESIDUOS PELIGROSOS GENERADOS
J70: AÑO | K70: =H66 -> 2022
B72: Nº de orden | C72: Descripción residuo | I72: Codigo LER | J72: Cantidad anual residuo peligroso generada (Kg) | K72: Cantidad anual por unidad de producción
K73: =J73/$I$66 -> #DIV/0!
K74: =J74/$I$66 -> #DIV/0!
K75: =J75/$I$66 -> #DIV/0!
K76: =J76/$I$66 -> #DIV/0!
K77: =J77/$I$66 -> #DIV/0!
K78: =J78/$I$66 -> #DIV/0!
K79: =J79/$I$66 -> #DIV/0!
K80: =J80/$I$66 -> #DIV/0!
K81: =J81/$I$66 -> #DIV/0!
K82: =J82/$I$66 -> #DIV/0!
K83: =J83/$I$66 -> #DIV/0!
K84: =J84/$I$66 -> #DIV/0!
... K112: =J112/$I$66 -> #DIV/0!
B113: Otros datos de interés
B120: C.3.- EVOLUCION EN LA GENERACIÓN DE RESIDUOS PELIGROSOS
B122: CANTIDAD GENERADA POR UNIDAD DE PRODUCCION EN AÑOS ANTERIORES AL PERIODO A PLANIFICAR
B123: Nº de orden | C123: Descripcion | H123: Codigo LER | I123: Cantidad año | J123: Cantidad año | K123: Cantidad año | L123: Cantidad año | M123: Nº sistema de minimización
I124: =L124-3 -> 2019 | J124: =L124-2 -> 2020 | K124: =L124-1 -> 2021 | L124: ='C1-CENTRO PRODUCTOR 1'!J13 -> 2022
B125: =B73 -> 0 | C125: =C73 -> 0 | H125: =I73 -> 0 | L125: =K73 -> #DIV/0!
B126: =B74 -> 0 | C126: =C74 -> 0 | H126: =I74 -> 0 | L126: =K74 -> #DIV/0!
B127: =B75 -> 0 | C127: =C75 -> 0 | H127: =I75 -> 0 | L127: =K75 -> #DIV/0!
B128: =B76 -> 0 | C128: =C76 -> 0 | H128: =I76 -> 0 | L128: =K76 -> #DIV/0!
B129: =B77 -> 0 | C129: =C77 -> 0 | H129: =I77 -> 0 | L129: =K77 -> #DIV/0!
B130: =B78 -> 0 | C130: =C78 -> 0 | H130: =I78 -> 0 | L130: =K78 -> #DIV/0!
B131: =B79 -> 0 | C131: =C79 -> 0 | H131: =I79 -> 0 | L131: =K79 -> #DIV/0!
B132: =B80 -> 0 | C132: =C80 -> 0 | H132: =I80 -> 0 | L132: =K80 -> #DIV/0!
B133: =B81 -> 0 | C133: =C81 -> 0 | H133: =I81 -> 0 | L133: =K81 -> #DIV/0!
B134: =B82 -> 0 | C134: =C82 -> 0 | H134: =I82 -> 0 | L134: =K82 -> #DIV/0!
B135: =B83 -> 0 | C135: =C83 -> 0 | H135: =I83 -> 0 | L135: =K83 -> #DIV/0!
B136: =B84 -> 0 | C136: =C84 -> 0 | H136: =I84 -> 0 | L136: =K84 -> #DIV/0!
... B164: =B112 -> 0 | C164: =C112 -> 0 | H164: =I112 -> 0 | L164: =K112 -> #DIV/0!
B166: Nota: Para el cálculo de la cantidad anual por unidad de producción ha de procederse a dividir la cantidad anual generada de cada residuo peligroso (en Kg) en el proceso productivo entre la cantidad anual de producto obtenida en el proceso. Ejemplo: Residuo generado = 100Kg (Kilogramos). Producto obtenido =1000 t (toneladas); Cantidad anual por unidad de producción =100 Kg /100 t = 0,1Kg Residuo/ t Producto
B168: CANTIDAD ESTIMADA POR UNIDAD DE PRODUCCION EN EL PERIODO A PLANIFICAR
B169: Nº de orden | C169: Descripcion | H169: Codigo LER | I169: Cantidad año | J169: Cantidad año | K169: Cantidad año | L169: Cantidad año | M169: Nº sistema de minimización | N169: Objetivo de minimizacion (%)
I170: ='C1-CENTRO PRODUCTOR 1'!H14 -> 2023 | J170: =I170+1 -> 2024 | K170: =I170+2 -> 2025 | L170: =I170+3 -> 2026
B171: =B73 -> 0 | C171: =C73 -> 0 | H171: =I73 -> 0 | N171: =100-((L171*100)/L125) -> #DIV/0!
B172: =B74 -> 0 | C172: =C74 -> 0 | H172: =I74 -> 0 | N172: =100-((L172*100)/L126) -> #DIV/0!
B173: =B75 -> 0 | C173: =C75 -> 0 | H173: =I75 -> 0 | N173: =100-((L173*100)/L127) -> #DIV/0!
B174: =B76 -> 0 | C174: =C76 -> 0 | H174: =I76 -> 0 | N174: =100-((L174*100)/L128) -> #DIV/0!
B175: =B77 -> 0 | C175: =C77 -> 0 | H175: =I77 -> 0 | N175: =100-((L175*100)/L129) -> #DIV/0!
B176: =B78 -> 0 | C176: =C78 -> 0 | H176: =I78 -> 0 | N176: =100-((L176*100)/L130) -> #DIV/0!
B177: =B79 -> 0 | C177: =C79 -> 0 | H177: =I79 -> 0 | N177: =100-((L177*100)/L131) -> #DIV/0!
B178: =B80 -> 0 | C178: =C80 -> 0 | H178: =I80 -> 0 | N178: =100-((L178*100)/L132) -> #DIV/0!
B179: =B81 -> 0 | C179: =C81 -> 0 | H179: =I81 -> 0 | N179: =100-((L179*100)/L133) -> #DIV/0!
B180: =B82 -> 0 | C180: =C82 -> 0 | H180: =I82 -> 0 | N180: =100-((L180*100)/L134) -> #DIV/0!
B181: =B83 -> 0 | C181: =C83 -> 0 | H181: =I83 -> 0 | N181: =100-((L181*100)/L135) -> #DIV/0!
B182: =B84 -> 0 | C182: =C84 -> 0 | H182: =I84 -> 0 | N182: =100-((L182*100)/L136) -> #DIV/0!
... B210: =B112 -> 0 | C210: =C112 -> 0 | H210: =I112 -> 0 | N210: =100-((L210*100)/L164) -> #DIV/0!
B212: Nota: Para el cálculo de la cantidad anual por unidad de producción ha de procederse a dividir la cantidad anual QUE SE PREVEA GENERAR de cada residuo peligroso (en Kg) en el proceso productivo entre la cantidad anual de producto QUE SE PREVEA OBTENER en el proceso.
B214: C.4.- MEDIDAS O SISTEMAS DE MINIMIZACION (Adjuntar, si se considera necesario, memoria y planos complementarios)
B217: Nº de sistema de minimizacion | C217: Descripción | K217: Fecha de implantación
B231: Otros datos de interés

Sheet C3P2-DATOS DEL PROCESO 2
B8: C.- DATOS ESPECIFICOS DEL PROCESO (Cumplimentándose una copia del apartado “C” por cada proceso)
B10: C.1.- DATOS GENERALES
B12: Nº de orden | D12: Denominación del proceso
B13: Descripción del proceso (adjuntar en su caso diagrama general del proceso)
B29: MAQUINARIA EMPLEADA
B40: MATERIAS PRIMAS CONSUMIDAS
B41: Descripción | J41: Cantidad anual
B52: PRODUCTOS OBTENIDOS
B53: Descripción | J53: Cantidad anual
B65: Cantidad anual total de producto obtenida en el proceso durante el año de referencia | H65: AÑO | I65: Cantidad | J65: Unidad
H66: ='C1-CENTRO PRODUCTOR 1'!J13 -> 2022
B68: C.2.- RESIDUOS PELIGROSOS GENERADOS
J70: AÑO | K70: =H66 -> 2022
B72: Nº de orden | C72: Descripción residuo | I72: Codigo LER | J72: Cantidad anual residuo peligroso generada (Kg) | K72: Cantidad anual por unidad de producción
K73: =J73/$I$66 -> #DIV/0!
K74: =J74/$I$66 -> #DIV/0!
K75: =J75/$I$66 -> #DIV/0!
K76: =J76/$I$66 -> #DIV/0!
K77: =J77/$I$66 -> #DIV/0!
K78: =J78/$I$66 -> #DIV/0!
K79: =J79/$I$66 -> #DIV/0!
K80: =J80/$I$66 -> #DIV/0!
K81: =J81/$I$66 -> #DIV/0!
K82: =J82/$I$66 -> #DIV/0!
K83: =J83/$I$66 -> #DIV/0!
K84: =J84/$I$66 -> #DIV/0!
... K112: =J112/$I$66 -> #DIV/0!
B113: Otros datos de interés
B120: C.3.- EVOLUCION EN LA GENERACIÓN DE RESIDUOS PELIGROSOS
B122: CANTIDAD GENERADA POR UNIDAD DE PRODUCCION EN AÑOS ANTERIORES AL PERIODO A PLANIFICAR
B123: Nº de orden | C123: Descripcion | H123: Codigo LER | I123: Cantidad año | J123: Cantidad año | K123: Cantidad año | L123: Cantidad año | M123: Nº sistema de minimización
I124: =L124-3 -> 2019 | J124: =L124-2 -> 2020 | K124: =L124-1 -> 2021 | L124: ='C1-CENTRO PRODUCTOR 1'!J13 -> 2022
B125: =B73 -> 0 | C125: =C73 -> 0 | H125: =I73 -> 0 | L125: =K73 -> #DIV/0!
B126: =B74 -> 0 | C126: =C74 -> 0 | H126: =I74 -> 0 | L126: =K74 -> #DIV/0!
B127: =B75 -> 0 | C127: =C75 -> 0 | H127: =I75 -> 0 | L127: =K75 -> #DIV/0!
B128: =B76 -> 0 | C128: =C76 -> 0 | H128: =I76 -> 0 | L128: =K76 -> #DIV/0!
B129: =B77 -> 0 | C129: =C77 -> 0 | H129: =I77 -> 0 | L129: =K77 -> #DIV/0!
B130: =B78 -> 0 | C130: =C78 -> 0 | H130: =I78 -> 0 | L130: =K78 -> #DIV/0!
B131: =B79 -> 0 | C131: =C79 -> 0 | H131: =I79 -> 0 | L131: =K79 -> #DIV/0!
B132: =B80 -> 0 | C132: =C80 -> 0 | H132: =I80 -> 0 | L132: =K80 -> #DIV/0!
B133: =B81 -> 0 | C133: =C81 -> 0 | H133: =I81 -> 0 | L133: =K81 -> #DIV/0!
B134: =B82 -> 0 | C134: =C82 -> 0 | H134: =I82 -> 0 | L134: =K82 -> #DIV/0!
B135: =B83 -> 0 | C135: =C83 -> 0 | H135: =I83 -> 0 | L135: =K83 -> #DIV/0!
B136: =B84 -> 0 | C136: =C84 -> 0 | H136: =I84 -> 0 | L136: =K84 -> #DIV/0!
... B164: =B112 -> 0 | C164: =C112 -> 0 | H164: =I112 -> 0 | L164: =K112 -> #DIV/0!
B166: Nota: Para el cálculo de la cantidad anual por unidad de producción ha de procederse a dividir la cantidad anual generada de cada residuo peligroso (en Kg) en el proceso productivo entre la cantidad anual de producto obtenida en el proceso. Ejemplo: Residuo generado = 100Kg (Kilogramos). Producto obtenido =1000 t (toneladas); Cantidad anual por unidad de producción =100 Kg /100 t = 0,1Kg Residuo/ t Producto
B168: CANTIDAD ESTIMADA POR UNIDAD DE PRODUCCION EN EL PERIODO A PLANIFICAR
B169: Nº de orden | C169: Descripcion | H169: Codigo LER | I169: Cantidad año | J169: Cantidad año | K169: Cantidad año | L169: Cantidad año | M169: Nº sistema de minimización | N169: Objetivo de minimizacion (%)
I170: ='C1-CENTRO PRODUCTOR 1'!H14 -> 2023 | J170: =I170+1 -> 2024 | K170: =I170+2 -> 2025 | L170: =I170+3 -> 2026
B171: =B73 -> 0 | C171: =C73 -> 0 | H171: =I73 -> 0 | N171: =100-((L171*100)/L125) -> #DIV/0!
B172: =B74 -> 0 | C172: =C74 -> 0 | H172: =I74 -> 0 | N172: =100-((L172*100)/L126) -> #DIV/0!
B173: =B75 -> 0 | C173: =C75 -> 0 | H173: =I75 -> 0 | N173: =100-((L173*100)/L127) -> #DIV/0!
B174: =B76 -> 0 | C174: =C76 -> 0 | H174: =I76 -> 0 | N174: =100-((L174*100)/L128) -> #DIV/0!
B175: =B77 -> 0 | C175: =C77 -> 0 | H175: =I77 -> 0 | N175: =100-((L175*100)/L129) -> #DIV/0!
B176: =B78 -> 0 | C176: =C78 -> 0 | H176: =I78 -> 0 | N176: =100-((L176*100)/L130) -> #DIV/0!
B177: =B79 -> 0 | C177: =C79 -> 0 | H177: =I79 -> 0 | N177: =100-((L177*100)/L131) -> #DIV/0!
B178: =B80 -> 0 | C178: =C80 -> 0 | H178: =I80 -> 0 | N178: =100-((L178*100)/L132) -> #DIV/0!
B179: =B81 -> 0 | C179: =C81 -> 0 | H179: =I81 -> 0 | N179: =100-((L179*100)/L133) -> #DIV/0!
B180: =B82 -> 0 | C180: =C82 -> 0 | H180: =I82 -> 0 | N180: =100-((L180*100)/L134) -> #DIV/0!
B181: =B83 -> 0 | C181: =C83 -> 0 | H181: =I83 -> 0 | N181: =100-((L181*100)/L135) -> #DIV/0!
B182: =B84 -> 0 | C182: =C84 -> 0 | H182: =I84 -> 0 | N182: =100-((L182*100)/L136) -> #DIV/0!
... B210: =B112 -> 0 | C210: =C112 -> 0 | H210: =I112 -> 0 | N210: =100-((L210*100)/L164) -> #DIV/0!
B212: Nota: Para el cálculo de la cantidad anual por unidad de producción ha de procederse a dividir la cantidad anual QUE SE PREVEA GENERAR de cada residuo peligroso (en Kg) en el proceso productivo entre la cantidad anual de producto QUE SE PREVEA OBTENER en el proceso.
B214: C.4.- MEDIDAS O SISTEMAS DE MINIMIZACION (Adjuntar, si se considera necesario, memoria y planos complementarios)
B217: Nº de sistema de minimizacion | C217: Descripción | K217: Fecha de implantación
B231: Otros datos de interés

Sheet C3P3-DATOS DEL PROCESO 3
B8: C.- DATOS ESPECIFICOS DEL PROCESO (Cumplimentándose una copia del apartado “C” por cada proceso)
B10: C.1.- DATOS GENERALES
B12: Nº de orden | D12: Denominación del proceso
B13: Descripción del proceso (adjuntar en su caso diagrama general del proceso)
B29: MAQUINARIA EMPLEADA
B40: MATERIAS PRIMAS CONSUMIDAS
B41: Descripción | J41: Cantidad anual
B52: PRODUCTOS OBTENIDOS
B53: Descripción | J53: Cantidad anual
B65: Cantidad anual total de producto obtenida en el proceso durante el año de referencia | H65: AÑO | I65: Cantidad | J65: Unidad
H66: ='C1-CENTRO PRODUCTOR 1'!J13 -> 2022
B68: C.2.- RESIDUOS PELIGROSOS GENERADOS
J70: AÑO | K70: =H66 -> 2022
B72: Nº de orden | C72: Descripción residuo | I72: Codigo LER | J72: Cantidad anual residuo peligroso generada (Kg) | K72: Cantidad anual por unidad de producción
K73: =J73/$I$66 -> #DIV/0!
K74: =J74/$I$66 -> #DIV/0!
K75: =J75/$I$66 -> #DIV/0!
K76: =J76/$I$66 -> #DIV/0!
K77: =J77/$I$66 -> #DIV/0!
K78: =J78/$I$66 -> #DIV/0!
K79: =J79/$I$66 -> #DIV/0!
K80: =J80/$I$66 -> #DIV/0!
K81: =J81/$I$66 -> #DIV/0!
K82: =J82/$I$66 -> #DIV/0!
K83: =J83/$I$66 -> #DIV/0!
K84: =J84/$I$66 -> #DIV/0!
... K112: =J112/$I$66 -> #DIV/0!
B113: Otros datos de interés
B120: C.3.- EVOLUCION EN LA GENERACIÓN DE RESIDUOS PELIGROSOS
B122: CANTIDAD GENERADA POR UNIDAD DE PRODUCCION EN AÑOS ANTERIORES AL PERIODO A PLANIFICAR
B123: Nº de orden | C123: Descripcion | H123: Codigo LER | I123: Cantidad año | J123: Cantidad año | K123: Cantidad año | L123: Cantidad año | M123: Nº sistema de minimización
I124: =L124-3 -> 2019 | J124: =L124-2 -> 2020 | K124: =L124-1 -> 2021 | L124: ='C1-CENTRO PRODUCTOR 1'!J13 -> 2022
B125: =B73 -> 0 | C125: =C73 -> 0 | H125: =I73 -> 0 | L125: =K73 -> #DIV/0!
B126: =B74 -> 0 | C126: =C74 -> 0 | H126: =I74 -> 0 | L126: =K74 -> #DIV/0!
B127: =B75 -> 0 | C127: =C75 -> 0 | H127: =I75 -> 0 | L127: =K75 -> #DIV/0!
B128: =B76 -> 0 | C128: =C76 -> 0 | H128: =I76 -> 0 | L128: =K76 -> #DIV/0!
B129: =B77 -> 0 | C129: =C77 -> 0 | H129: =I77 -> 0 | L129: =K77 -> #DIV/0!
B130: =B78 -> 0 | C130: =C78 -> 0 | H130: =I78 -> 0 | L130: =K78 -> #DIV/0!
B131: =B79 -> 0 | C131: =C79 -> 0 | H131: =I79 -> 0 | L131: =K79 -> #DIV/0!
B132: =B80 -> 0 | C132: =C80 -> 0 | H132: =I80 -> 0 | L132: =K80 -> #DIV/0!
B133: =B81 -> 0 | C133: =C81 -> 0 | H133: =I81 -> 0 | L133: =K81 -> #DIV/0!
B134: =B82 -> 0 | C134: =C82 -> 0 | H134: =I82 -> 0 | L134: =K82 -> #DIV/0!
B135: =B83 -> 0 | C135: =C83 -> 0 | H135: =I83 -> 0 | L135: =K83 -> #DIV/0!
B136: =B84 -> 0 | C136: =C84 -> 0 | H136: =I84 -> 0 | L136: =K84 -> #DIV/0!
... B164: =B112 -> 0 | C164: =C112 -> 0 | H164: =I112 -> 0 | L164: =K112 -> #DIV/0!
B166: Nota: Para el cálculo de la cantidad anual por unidad de producción ha de procederse a dividir la cantidad anual generada de cada residuo peligroso (en Kg) en el proceso productivo entre la cantidad anual de producto obtenida en el proceso. Ejemplo: Residuo generado = 100Kg (Kilogramos). Producto obtenido =1000 t (toneladas); Cantidad anual por unidad de producción =100 Kg /100 t = 0,1Kg Residuo/ t Producto
B168: CANTIDAD ESTIMADA POR UNIDAD DE PRODUCCION EN EL PERIODO A PLANIFICAR
B169: Nº de orden | C169: Descripcion | H169: Codigo LER | I169: Cantidad año | J169: Cantidad año | K169: Cantidad año | L169: Cantidad año | M169: Nº sistema de minimización | N169: Objetivo de minimizacion (%)
I170: ='C1-CENTRO PRODUCTOR 1'!H14 -> 2023 | J170: =I170+1 -> 2024 | K170: =I170+2 -> 2025 | L170: =I170+3 -> 2026
B171: =B73 -> 0 | C171: =C73 -> 0 | H171: =I73 -> 0 | N171: =100-((L171*100)/L125) -> #DIV/0!
B172: =B74 -> 0 | C172: =C74 -> 0 | H172: =I74 -> 0 | N172: =100-((L172*100)/L126) -> #DIV/0!
B173: =B75 -> 0 | C173: =C75 -> 0 | H173: =I75 -> 0 | N173: =100-((L173*100)/L127) -> #DIV/0!
B174: =B76 -> 0 | C174: =C76 -> 0 | H174: =I76 -> 0 | N174: =100-((L174*100)/L128) -> #DIV/0!
B175: =B77 -> 0 | C175: =C77 -> 0 | H175: =I77 -> 0 | N175: =100-((L175*100)/L129) -> #DIV/0!
B176: =B78 -> 0 | C176: =C78 -> 0 | H176: =I78 -> 0 | N176: =100-((L176*100)/L130) -> #DIV/0!
B177: =B79 -> 0 | C177: =C79 -> 0 | H177: =I79 -> 0 | N177: =100-((L177*100)/L131) -> #DIV/0!
B178: =B80 -> 0 | C178: =C80 -> 0 | H178: =I80 -> 0 | N178: =100-((L178*100)/L132) -> #DIV/0!
B179: =B81 -> 0 | C179: =C81 -> 0 | H179: =I81 -> 0 | N179: =100-((L179*100)/L133) -> #DIV/0!
B180: =B82 -> 0 | C180: =C82 -> 0 | H180: =I82 -> 0 | N180: =100-((L180*100)/L134) -> #DIV/0!
B181: =B83 -> 0 | C181: =C83 -> 0 | H181: =I83 -> 0 | N181: =100-((L181*100)/L135) -> #DIV/0!
B182: =B84 -> 0 | C182: =C84 -> 0 | H182: =I84 -> 0 | N182: =100-((L182*100)/L136) -> #DIV/0!
... B210: =B112 -> 0 | C210: =C112 -> 0 | H210: =I112 -> 0 | N210: =100-((L210*100)/L164) -> #DIV/0!
B212: Nota: Para el cálculo de la cantidad anual por unidad de producción ha de procederse a dividir la cantidad anual QUE SE PREVEA GENERAR de cada residuo peligroso (en Kg) en el proceso productivo entre la cantidad anual de producto QUE SE PREVEA OBTENER en el proceso.
B214: C.4.- MEDIDAS O SISTEMAS DE MINIMIZACION (Adjuntar, si se considera necesario, memoria y planos complementarios)
B217: Nº de sistema de minimizacion | C217: Descripción | K217: Fecha de implantación
B231: Otros datos de interés

Sheet Proteccion de datos personales
B8: INFORMACIÓN BÁSICA SOBRE PROTECCIÓN DE DATOS PERSONALES
B10: DIRECCIÓN GENERAL DE MEDIO AMBIENTE Y CAMBIO CLIMÁTICO
B13: EPÍGRAFE | C13: INFORMACIÓN BÁSICA SOBRE PROTECCIÓN DE DATOS PERSONALES
C14: En cumplimiento del Reglamento General de Protección de Datos (Reglamento (UE) 2016/679 del Parlamento Europeo y del Consejo de 27 de abril de 2016),
C15: se informa:
B16: RESPONSABLE | C16: Dirección General de Medio Ambiente y Cambio Climático, dependiente de la Consejería de Fomento, Ordenación del territorio y Medio Ambiente – Gobierno de Cantabria.
C17: C/ Lealtad 24, 39002 Santander, Cantabria
B18: FINALIDAD | C18: Registro de entrada de todas las solicitudes, escritos y comunicaciones que sean presentadas o se reciban en cualquier oficina de registro de la Administración de la Comunidad Autónoma de Cantabria.
C19: Con los datos recogidos en el presente formulario se realizará una actividad de tratamiento para la gestión de la actividad propia del interesado.
B20: LEGITIMACIÓN | C20: El tratamiento es necesario para el cumplimiento de una obligación legal aplicable al responsable de tratamiento.
B21: DESTINATARIOS | C21: Persona, órgano o unidad administrativa al que se dirigen los documentos registrados.
C22: No se cederán datos a terceros, salvo obligación legal.
B23: DERECHOS | C23: El interesado tiene los siguientes derechos: acceso, rectificación, supresión, limitación del tratamiento, portabilidad de los datos, oposición y retirada del consentimiento prestado.
C24: Estos derechos los puede ejercitar poniéndose en contacto con el Delegado de Protección de Datos.
C25: También tiene derecho a reclamar ante la siguiente autoridad de control: Agencia Española de Protección de Datos (www.aepd.es).
B26: INFORMACIÓN ADICIONAL | C26: https://sede.cantabria.es/sede/politica-proteccion-datos
